Workbook

Sheet INDEX
A2: Der Gender-Pay-Gap aus abhängiger Beschäftigung - 2023 | C2: Il Gender Pay Gap nel lavoro dipendente - 2023
A3: Siehe auch: astat info 12/2025 | C3: Vedi anche astat info 12/2025
A5: Inhaltsverzeichnis | C5: Indice
A7: ='Tab. 1'!A2 -> Abhängig Beschäftigte in der Privatwirtschaft (a) und Bruttotagesentlohnung nach Arbeitszeit, Geschlecht und Gender-Pay-Gap (GPG) - 2023 | B7: Tab. 1 | C7: ='Tab. 1'!A4 -> Personale dipendente nel settore privato (a) e retribuzione giornaliera lorda per orario di lavoro, sesso e Gender Pay Gap (GPG) - 2023
A8: ='Tab. 2'!A2 -> Abhängig Beschäftigte mit Vollzeitstelle in der Privatwirtschaft (a) und Bruttotagesentlohnung nach beruflicher Qualifikation, Geschlecht und Gender-Pay-Gap (GPG) - 2023 | B8: Tab. 2 | C8: ='Tab. 2'!A4 -> Personale dipendente a tempo pieno nel settore privato (a) e retribuzione giornaliera lorda per qualifica professionale, sesso e Gender Pay Gap (GPG) - 2023
A9: ='Tab. 3'!A$2 -> Abhängig Beschäftigte mit Vollzeitstelle in der Privatwirtschaft (a) und Bruttotagesentlohnung nach Art des Vertrages, Geschlecht und Gender-Pay-Gap (GPG) - 2023 | B9: Tab. 3 | C9: ='Tab. 3'!A4 -> Personale dipendente a tempo pieno nel settore privato (a) e retribuzione giornaliera lorda per tipologia contrattuale, sesso e Gender Pay Gap (GPG) - 2023
A10: ='Tab. 4'!A$2 -> Abhängig Beschäftigte mit Vollzeitstelle in der Privatwirtschaft (a) und Bruttotagesentlohnung nach Altersklasse, Geschlecht und Gender-Pay-Gap (GPG) - 2023 | B10: Tab. 4 | C10: ='Tab. 4'!A4 -> Personale dipendente a tempo pieno nel settore privato (a) e retribuzione giornaliera lorda per classe di età, sesso e Gender Pay Gap (GPG) - 2023
A11: ='Tab. 5'!A$2 -> Abhängig Beschäftigte mit Vollzeitstelle in der Privatwirtschaft (a) und Bruttotagesentlohnung nach Wirtschaftsbereich, Geschlecht und Gender-Pay-Gap (GPG) - 2023 | B11: Tab. 5 | C11: ='Tab. 5'!A4 -> Personale dipendente a tempo pieno nel settore privato (a) e retribuzione giornaliera lorda per settore economico, sesso e Gender Pay Gap (GPG) - 2023
A12: ='Tab. 6'!A$2 -> Abhängig Beschäftigte mit Vollzeitstelle in der Privatwirtschaft (a) und Bruttotagesentlohnung nach Geschlecht und Gender-Pay-Gap (GPG) - 2015-2023 | B12: Tab. 6 | C12: ='Tab. 6'!A4 -> Personale dipendente a tempo pieno nel settore privato (a) e retribuzione giornaliera lorda per sesso e Gender Pay Gap (GPG) - 2015-2023
A13: ='Tab. 7'!A$2 -> Abhängig Beschäftigte im öffentlichen Dienst und Bruttotagesentlohnung nach Arbeitszeit, Geschlecht und Gender-Pay-Gap (GPG) - 2023 | B13: Tab. 7 | C13: ='Tab. 7'!A4 -> Personale dipendente nel settore pubblico e retribuzione giornaliera lorda per orario di lavoro, sesso e Gender Pay Gap (GPG) - 2023
A14: ='Tab. 8'!A$2 -> Abhängig Beschäftigte mit Vollzeitstelle im öffentlichen Dienst und Bruttotagesentlohnung nach Art des Vertrages, Geschlecht und Gender-Pay-Gap (GPG) - 2023 | B14: Tab. 8 | C14: ='Tab. 8'!A4 -> Personale dipendente a tempo pieno nel settore pubblico e retribuzione giornaliera lorda per tipologia contrattuale, sesso e Gender Pay Gap (GPG) - 2023
A15: ='Tab. 9'!A$2 -> Abhängig Beschäftigte mit Vollzeitstelle im öffentlichen Dienst und Bruttotagesentlohnung nach Altersklasse, Geschlecht und Gender-Pay-Gap (GPG) - 2023 | B15: Tab. 9 | C15: ='Tab. 9'!A4 -> Personale dipendente a tempo pieno nel settore pubblico e retribuzione giornaliera lorda per classe di età, sesso e Gender Pay Gap (GPG) - 2023
A16: ='Tab. 10'!A$2 -> Abhängig Beschäftigte mit Vollzeitstelle im öffentlichen Dienst und Bruttotagesentlohnung nach Vertragsgruppe, Geschlecht und Gender-Pay-Gap (GPG) - 2023 | B16: Tab. 10 | C16: ='Tab. 10'!A4 -> Personale dipendente a tempo pieno nel settore pubblico e retribuzione giornaliera lorda per gruppo contrattuale, sesso e Gender Pay Gap (GPG) - 2023
A17: ='Tab. 11'!A$2 -> Abhängig Beschäftigte mit Vollzeitstelle im öffentlichen Dienst und Bruttotagesentlohnung nach Geschlecht und Gender-Pay-Gap (GPG) - 2015-2023 | B17: Tab. 11 | C17: ='Tab. 11'!A4 -> Personale dipendente a tempo pieno nel settore pubblico e retribuzione giornaliera lorda per sesso e Gender Pay Gap (GPG) - 2015-2023
A18: Abhängig Beschäftigten mit Vollzeitstelle in der Privatwirtschaft (a) nach Art des Vertrages und Geschlecht - 2019-2023 | B18: Tab. 12 | C18: Personale dipendente a tempo pieno nel settore privato (a) per tipologia contrattuale e sesso - 2019-2023
A19: Bruttotagesentlohnung der abhängig Beschäftigten mit Vollzeitstelle in der Privatwirtschaft (a) nach Art des Vertrages und Geschlecht - 2019-2023 | B19: Tab. 13 | C19: Retribuzione giornaliera lorda del personale dipendente a tempo pieno nel settore privato (a) per tipologia contrattuale e sesso - 2019-2023
A20: Abhängig Beschäftigte mit Vollzeitstelle in der Privatwirtschaft (a) nach beruflicher Qualifikation und Geschlecht - 2019-2023 | B20: Tab. 14 | C20: Personale dipendente a tempo pieno nel settore privato (a) per qualifica professionale e sesso - 2019-2023
A21: Abhängig Beschäftigte mit Vollzeitstelle in der Privatwirtschaft (a) im Gastgewerbe/Beherbergung und Gastronomie nach beruflicher Qualifikation und Geschlecht - 2019-2023 | B21: Tab. 15 | C21: Personale dipendente a tempo pieno nel settore privato (a) nelle Attività dei servizi di alloggio e di ristorazione per qualifica professionale e sesso - 2019-2023
A22: Abhängig Beschäftigte mit Vollzeitstelle in der Privatwirtschaft (a) und Bruttotagesentlohnung nach Wirtschaftsbereich und beruflicher Qualifikation - 2023 | B22: Tab. 16 | C22: Personale dipendente a tempo pieno nel settore privato (a) e retribuzione giornaliera lorda per settore economico e qualifica professionale - 2023
A23: Abhängig Beschäftigte mit Vollzeitstelle im öffentlichen Dienst nach Funktionsebene und Geschlecht - 2014 und 2023 | B23: Tab. 17 | C23: Personale dipendente a tempo pieno nel settore pubblico per qualifica funzionale e sesso - 2014 e 2023
A24: Abhängig Beschäftigte mit Vollzeitstelle im öffentlichen Dienst nach Art des Vertrages und Geschlecht - 2019-2023 | B24: Tab. 18 | C24: Personale dipendente a tempo pieno nel settore pubblico per tipologia contrattuale e sesso - 2019-2023
A25: Von den abhängig Beschäftigten mit Vollzeitstelle in der Privatwirtschaft (a) und im öffentlichen Dienst gearbeitete Tage nach Geschlecht - 2014-2023 | B25: Tab. 19 | C25: Giornate lavorate dal personale dipendente a tempo pieno nel settore privato (a) e nel settore pubblico per sesso - 2014-2023

Sheet Zeichenerkl. - Segni convenz.
A2: ZEICHENERKLÄRUNG | D2: SEGNI CONVENZIONALI
A4: In den Tabellen der vorliegenden Veröffentlichung werden folgende Zeichen verwendet: | D4: Nelle tavole della presente pubblicazione vengono utilizzati i seguenti segni convenzionali:
A6: Linie (-): | B6: a) das Merkmal existiert nicht; | D6: Linea (-): | E6: a) quando il fenomeno non esiste;
B7: b) das Merkmal existiert zwar und wird erhoben, aber es kommen keine entsprechenden Fälle vor. | E7: b) quando il fenomeno esiste e viene rilevato, ma i casi non si sono verificati.
A9: Zwei Punkte (..): | B9: anstelle jener Zahlen, die zwar von null verschieden sind, aber weniger als die Hälfte der kleinsten Einheit ausmachen, die in der Tabelle zur Darstellung gebracht werden kann. | D9: Due puntini (..): | E9: per i numeri che, seppure diversi da zero, non raggiungono la metà della cifra dell'ordine minimo considerato.
A11: Vier Punkte (....): | B11: das Merkmal existiert zwar, aber die Häufigkeiten sind aus irgendeinem Grund unbekannt. | D11: Quattro puntini (....): | E11: quando il fenomeno esiste, ma i dati non si conoscono per qualsiasi ragione.
A13: Sternchen (*): | B13: das Merkmal existiert, aber die Daten können nicht veröffentlicht werden, um die statistische Geheimhaltung zu wahren. | D13: Asterisco (*): | E13: il fenomeno esiste, ma il dato non è divulgabiöe per garantire il segreto statistico.
A15: Vier Sterne (****): | B15: die Daten werden nicht veröffentlicht, da die Schätzung aufgrund des hohen relativen Standardfehlers nicht zuverlässig ist. | D15: Quattro asterischi (****): | E15: il dato non viene pubblicato perché la stima non è attendibile a causa dell'elevato errore standard relativo.
A18: AUF- UND ABRUNDUNGEN | D18: ARROTONDAMENTI
A20: Im Allgemeinen ist ohne Rücksicht auf die Endsumme gerundet worden. Deshalb können sich bei der Summierung von Einzelangaben geringfügige Abweichungen in der Endsumme ergeben. | D20: Generalmente sono stati apportati degli arrotondamenti senza tener conto del totale. Perciò nel sommare i singoli dati si possono riscontrare delle piccole differenze rispetto al totale.

Sheet Tab. 1
A1: Tab. 1 | J1: Inhaltsverzeichnis / Indice
A2: Abhängig Beschäftigte in der Privatwirtschaft (a) und Bruttotagesentlohnung nach Arbeitszeit, Geschlecht und Gender-Pay-Gap (GPG) - 2023
A3: Durchschnittlicher Betrag in Euro
A4: Personale dipendente nel settore privato (a) e retribuzione giornaliera lorda per orario di lavoro, sesso e Gender Pay Gap (GPG) - 2023
A5: Importo medio in euro
A7: ARBEITSZEIT | C7: Männer Maschi | E7: Frauen Femmine | G7: Insgesamt Totale | I7: GPG (%) | J7: ORARIO DI LAVORO
C8: Anzahl Numero | D8: Bruttotagesentlohnung Retribuzione giornaliera lorda | E8: Anzahl Numero | F8: Bruttotagesentlohnung Retribuzione giornaliera lorda | G8: Anzahl Numero | H8: Bruttotagesentlohnung Retribuzione giornaliera lorda
A10: Vollzeit | C10: 103358 | D10: 132.06563 | E10: 45754 | F10: 109.15814 | G10: 149112 | H10: 125.69607 | I10: 17.345536 | J10: Tempo pieno
A11: Teilzeit | C11: 18563 | D11: 75.397089 | E11: 45860 | F11: 68.719508 | G11: 64423 | H11: 70.490739 | I11: 8.8565497 | J11: Tempo parziale
A13: Insgesamt | C13: 121921 | D13: 124.9492 | E13: 91614 | F13: 88.611664 | G13: 213535 | H13: 110.2 | I13: 29.081845 | J13: Totale
A15: (a) | B15: Ohne Landwirtschaftssektor
B16: Settore agricolo escluso
A17: Quelle: NISF, Auswertung ASTAT | I17: Fonte: INPS, elaborazione ASTAT

Sheet Tab. 2
A1: Tab. 2 | H1: Inhaltsverzeichnis / Indice
A2: Abhängig Beschäftigte mit Vollzeitstelle in der Privatwirtschaft (a) und Bruttotagesentlohnung nach beruflicher Qualifikation, Geschlecht und Gender-Pay-Gap (GPG) - 2023
A3: Durchschnittlicher Betrag in Euro
A4: Personale dipendente a tempo pieno nel settore privato (a) e retribuzione giornaliera lorda per qualifica professionale, sesso e Gender Pay Gap (GPG) - 2023
A5: Importo medio in euro
A7: BERUFLICHE QUALIFIKATION | C7: Männer Maschi | E7: Frauen Femmine | G7: GPG (%) | H7: QUALIFICA PROFESSIONALE
C8: Anzahl Numero | D8: Bruttotagesentlohnung Retribuzione giornaliera lorda | E8: Anzahl Numero | F8: Bruttotagesentlohnung Retribuzione giornaliera lorda
A10: Arbeiter/innen | C10: 66543 | D10: 111.4368 | E10: 21966 | F10: 93.988309 | G10: 15.657744 | H10: Operai/e
A11: Angestellte | C11: 28513 | D11: 151.03557 | E11: 21267 | F11: 116.9401 | G11: 22.574464 | H11: Impiegati/e
A12: Leitende Mitarbeiter/innen | C12: 3327 | D12: 265.87535 | E12: 719 | F12: 227.10593 | G12: 14.581802 | H12: Quadri/e
A13: Führungskräfte | C13: 755 | D13: 596.80465 | E13: 71 | F13: 457.0002 | G13: 23.425496 | H13: Dirigenti
A14: Lehrlinge | C14: 4028 | D14: 60.04077 | E14: 1611 | F14: 68.949688 | G14: -14.838114 | H14: Apprendisti/e
A15: Anderes | C15: 192 | D15: 215.00423 | E15: 120 | F15: 187.58914 | G15: 12.750956 | H15: Altro
A17: Insgesamt | C17: 103358 | D17: 132.06563 | E17: 45754 | F17: 109.15814 | G17: 17.345536 | H17: Totale
A19: (a) | B19: Ohne Landwirtschaftssektor
B20: Settore agricolo escluso
A21: Quelle: NISF, Auswertung ASTAT | G21: Fonte: INPS, elaborazione ASTAT

Sheet Tab. 3
A1: Tab. 3 | H1: Inhaltsverzeichnis / Indice
A2: Abhängig Beschäftigte mit Vollzeitstelle in der Privatwirtschaft (a) und Bruttotagesentlohnung nach Art des Vertrages, Geschlecht und Gender-Pay-Gap (GPG) - 2023
A3: Durchschnittlicher Betrag in Euro
A4: Personale dipendente a tempo pieno nel settore privato (a) e retribuzione giornaliera lorda per tipologia contrattuale, sesso e Gender Pay Gap (GPG) - 2023
A5: Importo medio in euro
A7: ART DES VERTRAGES | C7: Männer Maschi | E7: Frauen Femmine | G7: GPG (%) | H7: TIPOLOGIA CONTRATTUALE
C8: Anzahl Numero | D8: Bruttotagesentlohnung Retribuzione giornaliera lorda | E8: Anzahl Numero | F8: Bruttotagesentlohnung Retribuzione giornaliera lorda
A10: Unbefristet | C10: 75734 | D10: 137.37884 | E10: 25371 | F10: 115.09261 | G10: 16.222463 | H10: Tempo indeterminato
A11: Befristet | C11: 11491 | D11: 99.896379 | E11: 5813 | F11: 94.667352 | G11: 5.2344511 | H11: Tempo determinato
A12: Saisonal | C12: 16133 | D12: 111.03455 | E12: 14570 | F12: 95.180416 | G12: 14.278562 | H12: Stagionale
A14: Insgesamt | C14: 103358 | D14: 132.06563 | E14: 45754 | F14: 109.15814 | G14: 17.345536 | H14: Totale
A16: (a) | B16: Ohne Landwirtschaftssektor
B17: Settore agricolo escluso
A18: Quelle: NISF, Auswertung ASTAT | G18: Fonte: INPS, elaborazione ASTAT

Sheet Tab. 4
A1: Tab. 4 | H1: Inhaltsverzeichnis / Indice
A2: Abhängig Beschäftigte mit Vollzeitstelle in der Privatwirtschaft (a) und Bruttotagesentlohnung nach Altersklasse, Geschlecht und Gender-Pay-Gap (GPG) - 2023
A3: Durchschnittlicher Betrag in Euro
A4: Personale dipendente a tempo pieno nel settore privato (a) e retribuzione giornaliera lorda per classe di età, sesso e Gender Pay Gap (GPG) - 2023
A5: Importo medio in euro
A7: ALTERSKLASSE (Jahre) | C7: Männer Maschi | E7: Frauen Femmine | G7: GPG (%) | H7: CLASSE DI ETÀ (anni)
C8: Anzahl Numero | D8: Bruttotagesentlohnung Retribuzione giornaliera lorda | E8: Anzahl Numero | F8: Bruttotagesentlohnung Retribuzione giornaliera lorda
A10: bis 19 | C10: 5223 | D10: 58.440477 | E10: 2954 | F10: 63.419515 | G10: -8.5198456 | H10: fino a 19
A11: 20-24 | C11: 10766 | D11: 95.47074 | E11: 7049 | F11: 89.167285 | G11: 6.6024998 | H11: 20-24
A12: 25-29 | C12: 12148 | D12: 111.48255 | E12: 7124 | F12: 102.31702 | G12: 8.2214877 | H12: 25-29
A13: 30-34 | C13: 12070 | D13: 124.93583 | E13: 5342 | F13: 112.00138 | G13: 10.352873 | H13: 30-34
A14: 35-39 | C14: 11457 | D14: 134.9711 | E14: 3927 | F14: 116.19391 | G14: 13.91201 | H14: 35-39
A15: 40-44 | C15: 11357 | D15: 141.45439 | E15: 3875 | F15: 115.94283 | G15: 18.035185 | H15: 40-44
A16: 45-49 | C16: 11507 | D16: 146.99202 | E16: 4327 | F16: 117.51516 | G16: 20.053375 | H16: 45-49
A17: 50-54 | C17: 11940 | D17: 154.45224 | E17: 4800 | F17: 120.32711 | G17: 22.09429 | H17: 50-54
A18: 55-59 | C18: 10522 | D18: 151.36763 | E18: 3956 | F18: 119.04513 | G18: 21.353645 | H18: 55-59
A19: 60-64 | C19: 4785 | D19: 155.42054 | E19: 1811 | F19: 117.5816 | G19: 24.346165 | H19: 60-64
A20: 65 und mehr | C20: 1583 | D20: 131.78439 | E20: 589 | F20: 112.0741 | G20: 14.956469 | H20: 65 e oltre
A22: Insgesamt | C22: 103358 | D22: 132.06563 | E22: 45754 | F22: 109.15814 | G22: 17.345536 | H22: Totale
A24: (a) | B24: Ohne Landwirtschaftssektor
B25: Settore agricolo escluso
A26: Quelle: NISF, Auswertung ASTAT | G26: Fonte: INPS, elaborazione ASTAT

Sheet Tab. 5
A1: Tab. 5 | H1: Inhaltsverzeichnis / Indice
A2: Abhängig Beschäftigte mit Vollzeitstelle in der Privatwirtschaft (a) und Bruttotagesentlohnung nach Wirtschaftsbereich, Geschlecht und Gender-Pay-Gap (GPG) - 2023
A3: Durchschnittlicher Betrag in Euro
A4: Personale dipendente a tempo pieno nel settore privato (a) e retribuzione giornaliera lorda per settore economico, sesso e Gender Pay Gap (GPG) - 2023
A5: Importo medio in euro
A7: WIRTSCHAFTSBEREICH | C7: Männer Maschi | E7: Frauen Femmine | G7: GPG (%) | H7: SETTORE ECONOMICO
C8: Anzahl Numero | D8: Bruttotagesentlohnung Retribuzione giornaliera lorda | E8: Anzahl Numero | F8: Bruttotagesentlohnung Retribuzione giornaliera lorda
A10: Bergbau und Gewinnung von Steinen und Erden | C10: 336 | D10: 133.83157 | E10: 18 | F10: 134.12527 | G10: -0.21945129 | H10: Estrazione di minerali da cave e miniere
A11: Verarbeitendes Gewerbe und Herstellung von Waren | C11: 25724 | D11: 138.00094 | E11: 4653 | F11: 115.96911 | G11: 15.964989 | H11: Attività manifatturiere
A12: Energieversorgung | C12: 1278 | D12: 184.5817 | E12: 205 | F12: 160.12146 | G12: 13.251715 | H12: Fornitura di energia elettrica, gas, vapore e aria condizionata
A13: Wasserversorgung; Abwasser- und Abfallentsorgung und Beseitigung von Umweltschmutzungen | C13: 687 | D13: 131.44201 | E13: 45 | F13: 143.60273 | G13: -9.251771 | H13: Fornitura di acqua; reti fognarie, attività di gestione dei rifiuti e risanamento
A14: Baugewerbe/Bau | C14: 16036 | D14: 115.70412 | E14: 753 | F14: 116.24609 | G14: -0.46840459 | H14: Costruzioni
A15: Handel; Reparatur von Kraftwagen und Krafträdern | C15: 16832 | D15: 133.3382 | E15: 7932 | F15: 106.20776 | G15: 20.347085 | H15: Commercio all'ingrosso e al dettaglio; riparazione di autoveicoli e motocicli
A16: Verkehr und Lagerung | C16: 8048 | D16: 118.93533 | E16: 1267 | F16: 114.61786 | G16: 3.6301049 | H16: Trasporto e magazzinaggio
A17: Gastgewerbe/Beherbergung und Gastronomie | C17: 19212 | D17: 111.43054 | E17: 18492 | F17: 97.201086 | G17: 12.769798 | H17: Attività dei servizi di alloggio e di ristorazione
A18: Information und Kommunikation | C18: 2068 | D18: 169.04831 | E18: 860 | F18: 136.3415 | G18: 19.347612 | H18: Servizi di informazione e comunicazione
A19: Erbringung von Finanz- und Versicherungsdienstleistungen | C19: 2466 | D19: 217.0832 | E19: 1344 | F19: 152.81708 | G19: 29.60437 | H19: Attività finanziarie e assicurative
A20: Grundstücks- und Wohnungswesen | C20: 198 | D20: 177.99938 | E20: 180 | F20: 124.22627 | G20: 30.209717 | H20: Attività immobiliari
A21: Erbringung von freiberuflichen, wissenschaftlichen und technischen Dienstleistungen | C21: 2421 | D21: 164.81149 | E21: 2171 | F21: 123.28527 | G21: 25.196193 | H21: Attività professionali, scientifiche e tecniche
... A29: Insgesamt | C29: 103358 | D29: 132.06563 | E29: 45754 | F29: 109.15814 | G29: 17.345536 | H29: Totale
A31: (a) | B31: Ohne Landwirtschaftssektor
B32: Settore agricolo escluso
A33: Quelle: NISF, Auswertung ASTAT | G33: Fonte: INPS, elaborazione ASTAT

Sheet Tab. 6
A1: Tab. 6 | F1: Inhaltsverzeichnis / Indice
A2: Abhängig Beschäftigte mit Vollzeitstelle in der Privatwirtschaft (a) und Bruttotagesentlohnung nach Geschlecht und Gender-Pay-Gap (GPG) - 2015-2023
A3: Durchschnittlicher Betrag in Euro
A4: Personale dipendente a tempo pieno nel settore privato (a) e retribuzione giornaliera lorda per sesso e Gender Pay Gap (GPG) - 2015-2023
A5: Importo medio in euro
A7: JAHR ANNO | C7: Männer Maschi | E7: Frauen Femmine | G7: GPG (%)
C8: Anzahl Numero | D8: Bruttotagesentlohnung Retribuzione giornaliera lorda | E8: Anzahl Numero | F8: Bruttotagesentlohnung Retribuzione giornaliera lorda
A10: 2015 | C10: 84294 | D10: 114.07469 | E10: 36404 | F10: 94.354174 | G10: 17.287371
A11: 2016 | C11: 86322 | D11: 115.10232 | E11: 37096 | F11: 95.327483 | G11: 17.180223
A12: 2017 | C12: 91633 | D12: 116.164 | E12: 39475 | F12: 96.176617 | G12: 17.206175
A13: 2018 | C13: 95546 | D13: 117.89759 | E13: 41150 | F13: 97.674531 | G13: 17.153072
A14: 2019 | C14: 97598 | D14: 120.16664 | E14: 42082 | F14: 99.704388 | G14: 17.028229
A15: 2020 | C15: 94470 | D15: 122.16164 | E15: 39492 | F15: 102.28301 | G15: 16.272397
A16: 2021 | C16: 97222 | D16: 124.44145 | E16: 41121 | F16: 103.84308 | G16: 16.552659
A17: 2022 | C17: 100966 | D17: 127.0538 | E17: 44012 | F17: 105.19655 | G17: 17.203148
A18: 2023 | C18: 103358 | D18: 132.06563 | E18: 45754 | F18: 109.15814 | G18: 17.345536
A20: (a) | B20: Ohne Landwirtschaftssektor
B21: Settore agricolo escluso
A22: Quelle: NISF, Auswertung ASTAT | F22: Fonte: INPS, elaborazione ASTAT

Sheet Tab. 7
A1: Tab. 7 | J1: Inhaltsverzeichnis / Indice
A2: Abhängig Beschäftigte im öffentlichen Dienst und Bruttotagesentlohnung nach Arbeitszeit, Geschlecht und Gender-Pay-Gap (GPG) - 2023
A3: Durchschnittlicher Betrag in Euro
A4: Personale dipendente nel settore pubblico e retribuzione giornaliera lorda per orario di lavoro, sesso e Gender Pay Gap (GPG) - 2023
A5: Importo medio in euro
A7: ARBEITSZEIT | C7: Männer Maschi | E7: Frauen Femmine | G7: Insgesamt Totale | I7: GPG (%) | J7: ORARIO DI LAVORO
C8: Anzahl Numero | D8: Bruttotagesentlohnung Retribuzione giornaliera lorda | E8: Anzahl Numero | F8: Bruttotagesentlohnung Retribuzione giornaliera lorda | G8: Anzahl Numero | H8: Bruttotagesentlohnung Retribuzione giornaliera lorda
A10: Vollzeit | C10: 16100 | D10: 172.04455 | E10: 19252 | F10: 147.54498 | G10: 35352 | H10: 158.84901 | I10: 14.240246 | J10: Tempo pieno
A11: Teilzeit | C11: 1816 | D11: 100.33311 | E11: 18967 | F11: 94.278087 | G11: 20783 | H11: 94.780322 | I11: 6.0349229 | J11: Tempo parziale
A13: Insgesamt | C13: 17916 | D13: 165.15001 | E13: 38219 | F13: 120.81258 | G13: 56135 | H13: 135.03208 | I13: 26.846763 | J13: Totale
A15: Quelle: NISF, Auswertung ASTAT | I15: Fonte: INPS, elaborazione ASTAT

Sheet Tab. 8
A1: Tab. 8 | G1: Inhaltsverzeichnis / Indice
A2: Abhängig Beschäftigte mit Vollzeitstelle im öffentlichen Dienst und Bruttotagesentlohnung nach Art des Vertrages, Geschlecht und Gender-Pay-Gap (GPG) - 2023
A3: Durchschnittlicher Betrag in Euro
A4: Personale dipendente a tempo pieno nel settore pubblico e retribuzione giornaliera lorda per tipologia contrattuale, sesso e Gender Pay Gap (GPG) - 2023
A5: Importo medio in euro
A7: ART DES VERTRAGES | B7: Männer Maschi | D7: Frauen Femmine | F7: GPG (%) | G7: TIPOLOGIA CONTRATTUALE
B8: Anzahl Numero | C8: Bruttotagesentlohnung Retribuzione giornaliera lorda | D8: Anzahl Numero | E8: Bruttotagesentlohnung Retribuzione giornaliera lorda
A10: Unbefristet | B10: 13876 | C10: 175.33387 | D10: 14286 | E10: 155.45737 | F10: 11.336371 | G10: Tempo indeterminato
A11: Befristet | B11: 2224 | C11: 144.68812 | D11: 4966 | E11: 117.00912 | F11: 19.130114 | G11: Tempo determinato
A13: Insgesamt | B13: 16100 | C13: 172.04455 | D13: 19252 | E13: 147.54498 | F13: 14.240246 | G13: Totale
A15: Quelle: NISF, Auswertung ASTAT | F15: Fonte: INPS, elaborazione ASTAT

Sheet Tab. 9
A1: Tab. 9 | G1: Inhaltsverzeichnis / Indice
A2: Abhängig Beschäftigte mit Vollzeitstelle im öffentlichen Dienst und Bruttotagesentlohnung nach Altersklasse, Geschlecht und Gender-Pay-Gap (GPG) - 2023
A3: Durchschnittlicher Betrag in Euro
A4: Personale dipendente a tempo pieno nel settore pubblico e retribuzione giornaliera lorda per classe di età, sesso e Gender Pay Gap (GPG) - 2023
A5: Importo medio in euro
A7: ALTERSKLASSE (Jahre) | B7: Männer Maschi | D7: Frauen Femmine | F7: GPG (%) | G7: CLASSE DI ETÀ (anni)
B8: Anzahl Numero | C8: Bruttotagesentlohnung Retribuzione giornaliera lorda | D8: Anzahl Numero | E8: Bruttotagesentlohnung Retribuzione giornaliera lorda
A10: bis 19 | B10: 31 | C10: 92.534733 | D10: 72 | E10: 85.774244 | F10: 7.3058936 | G10: fino a 19
A11: 20-24 | B11: 499 | C11: 109.11763 | D11: 909 | E11: 105.17087 | F11: 3.6169828 | G11: 20-24
A12: 25-29 | B12: 1114 | C12: 127.24512 | D12: 2162 | E12: 120.01131 | F12: 5.6849402 | G12: 25-29
A13: 30-34 | B13: 1404 | C13: 140.93364 | D13: 2408 | E13: 119.78018 | F13: 15.009516 | G13: 30-34
A14: 35-39 | B14: 1733 | C14: 156.04976 | D14: 1922 | E14: 129.12996 | F14: 17.250777 | G14: 35-39
A15: 40-44 | B15: 2219 | C15: 161.15415 | D15: 1880 | E15: 143.67793 | F15: 10.844413 | G15: 40-44
A16: 45-49 | B16: 2170 | C16: 176.03787 | D16: 2218 | E16: 161.99902 | F16: 7.9749037 | G16: 45-49
A17: 50-54 | B17: 2723 | C17: 181.76619 | D17: 2937 | E17: 163.11952 | F17: 10.258601 | G17: 50-54
A18: 55-59 | B18: 2708 | C18: 184.52366 | D18: 3158 | E18: 165.17213 | F18: 10.487293 | G18: 55-59
A19: 60-64 | B19: 1281 | C19: 231.67877 | D19: 1373 | E19: 176.92738 | F19: 23.632456 | G19: 60-64
A20: 65 und mehr | B20: 218 | C20: 280.4847 | D20: 213 | E20: 195.0836 | F20: 30.447685 | G20: 65 e oltre
A22: Insgesamt | B22: 16100 | C22: 172.04455 | D22: 19252 | E22: 147.54498 | F22: 14.240246 | G22: Totale
A24: Quelle: NISF, Auswertung ASTAT | F24: Fonte: INPS, elaborazione ASTAT

Sheet Tab. 10
A1: Tab. 10 | G1: Inhaltsverzeichnis / Indice
A2: Abhängig Beschäftigte mit Vollzeitstelle im öffentlichen Dienst und Bruttotagesentlohnung nach Vertragsgruppe, Geschlecht und Gender-Pay-Gap (GPG) - 2023
A3: Durchschnittlicher Betrag in Euro
A4: Personale dipendente a tempo pieno nel settore pubblico e retribuzione giornaliera lorda per gruppo contrattuale, sesso e Gender Pay Gap (GPG) - 2023
A5: Importo medio in euro
A7: VERTRAGSGRUPPE | B7: Männer Maschi | D7: Frauen Femmine | F7: GPG (%) | G7: GRUPPO CONTRATTUALE
B8: Anzahl Numero | C8: Bruttotagesentlohnung Retribuzione giornaliera lorda | D8: Anzahl Numero | E8: Bruttotagesentlohnung Retribuzione giornaliera lorda
A10: Staatliche Verwaltungen, Gericht, unabhängige Einrichtungen | B10: 238 | C10: 192.13426 | D10: 231 | E10: 202.48577 | F10: -5.3876483 | G10: Amministrazioni Centrali, Magistratura e Autorità Indipendenti
A11: Lokalverwaltungen (Region, Land, Gemeinde) | B11: 5170 | C11: 157.98793 | D11: 4659 | E11: 139.12674 | F11: 11.938377 | G11: Amministrazioni locali (Regioni, Province, Comuni)
A12: Militär, Polizei, Feuerwehr | B12: 4240 | C12: 155.52798 | D12: 472 | E12: 138.41722 | F12: 11.001726 | G12: Forze Armate, Corpi di polizia e Vigili del Fuoco
A13: Schule | B13: 3192 | C13: 141.35449 | D13: 9298 | E13: 129.40651 | F13: 8.4524914 | G13: Scuola
A14: Gesundheitswesen | B14: 2591 | C14: 251.86096 | D14: 4179 | E14: 189.35509 | F14: 24.817607 | G14: Servizio Sanitario
A15: Universitäten und Forschungseinrichtungen | B15: 208 | C15: 290.42221 | D15: 125 | E15: 247.60571 | F15: 14.742847 | G15: Università ed enti di ricerca
A16: Anderes | B16: 461 | C16: 175.07276 | D16: 288 | E16: 164.29614 | F16: 6.1555115 | G16: Altro
A18: Insgesamt | B18: 16100 | C18: 172.04455 | D18: 19252 | E18: 147.54498 | F18: 14.240246 | G18: Totale
A20: Quelle: NISF, Auswertung ASTAT | F20: Fonte: INPS, elaborazione ASTAT

Sheet Tab. 11
A1: Tab. 11 | E1: Inhaltsverzeichnis / Indice
A2: Abhängig Beschäftigte mit Vollzeitstelle im öffentlichen Dienst und Bruttotagesentlohnung nach Geschlecht und Gender-Pay-Gap (GPG) - 2015-2023
A3: Durchschnittlicher Betrag in Euro
A4: Personale dipendente a tempo pieno nel settore pubblico e retribuzione giornaliera lorda per sesso e Gender Pay Gap (GPG) - 2015-2023
A5: Importo medio in euro
A7: JAHR ANNO | B7: Männer Maschi | D7: Frauen Femmine | F7: GPG (%)
B8: Anzahl Numero | C8: Bruttotagesentlohnung Retribuzione giornaliera lorda | D8: Anzahl Numero | E8: Bruttotagesentlohnung Retribuzione giornaliera lorda
A10: 2015 | B10: 16273 | C10: 146.26203 | D10: 18491 | E10: 120.06707 | F10: 17.909608
A11: 2016 | B11: 17200 | C11: 144.63614 | D11: 18432 | E11: 121.09132 | F11: 16.278653
A12: 2017 | B12: 17212 | C12: 147.77288 | D12: 18733 | E12: 124.14959 | F12: 15.986213
A13: 2018 | B13: 16687 | C13: 153.38306 | D13: 19073 | E13: 126.07698 | F13: 17.802539
A14: 2019 | B14: 16324 | C14: 154.60159 | D14: 18982 | E14: 127.01115 | F14: 17.846155
A15: 2020 | B15: 16282 | C15: 160.41369 | D15: 19150 | E15: 132.80002 | F15: 17.214036
A16: 2021 | B16: 16259 | C16: 163.78227 | D16: 19603 | E16: 136.85006 | F16: 16.44391
A17: 2022 | B17: 16244 | C17: 165.74623 | D17: 19538 | E17: 137.85165 | F17: 16.829688
A18: 2023 | B18: 16100 | C18: 172.04455 | D18: 19252 | E18: 147.54498 | F18: 14.240246
A20: Quelle: NISF, Auswertung ASTAT | E20: Fonte: INPS, elaborazione ASTAT

Sheet Tab. 12
A1: Tab. 12 | I1: Inhaltsverzeichnis / Indice
A2: Abhängig Beschäftigten mit Vollzeitstelle in der Privatwirtschaft (a) nach Art des Vertrages und Geschlecht - 2019-2023
A3: Personale dipendente a tempo pieno nel settore privato (a) per tipologia contrattuale e sesso - 2019-2023
A5: JAHR ANNO | C5: Unbefristet Tempo indeterminato | E5: Befristet Tempo determinato | G5: Saisonal Stagionale | I5: Insgesamt Totale
C6: Anzahl Numero | D6: % Veränderung gegenüber 2019 Variazione % rispetto al 2019 | E6: Anzahl Numero | F6: % Veränderung gegenüber 2019 Variazione % rispetto al 2019 | G6: Anzahl Numero | H6: % Veränderung gegenüber 2019 Variazione % rispetto al 2019 | I6: Anzahl Numero | J6: % Veränderung gegenüber 2019 Variazione % rispetto al 2019
A8: Männer / Maschi
A10: 2019 | C10: 71450 | D10: - | E10: 12483 | F10: - | G10: 13665 | H10: - | I10: 97598 | J10: -
A11: 2020 | C11: 72671 | D11: 1.7088873 | E11: 10409 | F11: -16.614596 | G11: 11390 | H11: -16.648372 | I11: 94470 | J11: -3.2049837
A12: 2021 | C12: 73180 | D12: 2.4212736 | E12: 10948 | F12: -12.296724 | G12: 13094 | H12: -4.1785584 | I12: 97222 | J12: -0.3852538
A13: 2022 | C13: 74323 | D13: 4.0209937 | E13: 11523 | F13: -7.690459 | G13: 15130 | H13: 10.72082 | I13: 100976 | J13: 3.4611365
A14: 2023 | C14: 75734 | D14: 5.9958013 | E14: 11491 | F14: -7.9468077 | G14: 16133 | H14: 18.060739 | I14: 103358 | J14: 5.9017603
A16: Frauen / Femmine
A18: 2019 | C18: 22998 | D18: - | E18: 6363 | F18: - | G18: 12721 | H18: - | I18: 42082 | J18: -
A19: 2020 | C19: 23537 | D19: 2.3436821 | E19: 5100 | F19: -19.849128 | G19: 10855 | H19: -14.668658 | I19: 39492 | J19: -6.1546504
A20: 2021 | C20: 23713 | D20: 3.108966 | E20: 5292 | F20: -16.831683 | G20: 12116 | H20: -4.7559154 | I20: 41121 | J20: -2.2836367
A21: 2022 | C21: 24464 | D21: 6.3744673 | E21: 5671 | F21: -10.875373 | G21: 13870 | H21: 9.0323088 | I21: 44005 | J21: 4.5696497
A22: 2023 | C22: 25371 | D22: 10.318289 | E22: 5813 | F22: -8.6437215 | G22: 14570 | H22: 14.535021 | I22: 45754 | J22: 8.725821
A24: (a) | B24: Ohne Landwirtschaftssektor
B25: Settore agricolo escluso
A26: Quelle: NISF, Auswertung ASTAT | I26: Fonte: INPS, elaborazione ASTAT

Sheet Tab. 13
A1: Tab. 13 | I1: Inhaltsverzeichnis / Indice
A2: Bruttotagesentlohnung der abhängig Beschäftigten mit Vollzeitstelle in der Privatwirtschaft (a) nach Art des Vertrages und Geschlecht - 2019-2023
A3: Durchschnittlicher Betrag in Euro
A4: Retribuzione giornaliera lorda del personale dipendente a tempo pieno nel settore privato (a) per tipologia contrattuale e sesso - 2019-2023
A5: Importo medio in euro
A7: JAHR ANNO | C7: Unbefristet Tempo indeterminato | E7: Befristet Tempo determinato | G7: Saisonal Stagionale | I7: Insgesamt Totale
C8: Bruttotages- entlohnung Retribuzione giornaliera lorda | D8: % Veränderung gegenüber 2019 Variazione % rispetto al 2019 | E8: Bruttotages- entlohnung Retribuzione giornaliera lorda | F8: % Veränderung gegenüber 2019 Variazione % rispetto al 2019 | G8: Bruttotages- entlohnung Retribuzione giornaliera lorda | H8: % Veränderung gegenüber 2019 Variazione % rispetto al 2019 | I8: Bruttotages- entlohnung Retribuzione giornaliera lorda | J8: % Veränderung gegenüber 2019 Variazione % rispetto al 2019
A10: Männer / Maschi
A12: 2019 | C12: 124.53099 | D12: - | E12: 93.601446 | F12: - | G12: 104.15358 | H12: - | I12: 120.16664 | J12: -
A13: 2020 | C13: 125.23487 | D13: 0.56522347 | E13: 93.788812 | F13: 0.2001739 | G13: 107.77804 | H13: 3.4799158 | I13: 122.16164 | J13: 1.6601932
A14: 2021 | C14: 128.48191 | D14: 3.1726439 | E14: 93.978944 | F14: 0.4033035 | G14: 105.2027 | H14: 1.0072767 | I14: 124.44145 | J14: 3.5574003
A15: 2022 | C15: 131.81149 | D15: 5.8463398 | E15: 96.613267 | F15: 3.2177077 | G15: 109.20968 | H15: 4.8544616 | I15: 127.05865 | J15: 5.7353807
A16: 2023 | C16: 137.37884 | D16: 10.316989 | E16: 99.896379 | F16: 6.7252521 | G16: 111.03455 | H16: 6.6065603 | I16: 132.06563 | J16: 9.902076
A18: Frauen / Femmine
A20: 2019 | C20: 104.11822 | D20: - | E20: 87.418323 | F20: - | G20: 91.049044 | H20: - | I20: 99.704388 | J20: -
A21: 2020 | C21: 105.61497 | D21: 1.4375494 | E21: 87.741318 | F21: 0.36948136 | G21: 93.450567 | H21: 2.6376144 | I21: 102.28301 | J21: 2.5862671
A22: 2021 | C22: 108.02922 | D22: 3.7563082 | E22: 89.271667 | F22: 2.1200861 | G22: 92.578942 | H22: 1.6803007 | I22: 103.84308 | J22: 4.1509612
A23: 2022 | C23: 110.23787 | D23: 5.8775947 | E23: 91.373242 | F23: 4.5241301 | G23: 93.832795 | H23: 3.0574196 | I23: 105.20254 | J23: 5.5144487
A24: 2023 | C24: 115.09261 | D24: 10.540314 | E24: 94.667352 | F24: 8.2923448 | G24: 95.180416 | H24: 4.5375242 | I24: 109.15814 | J24: 9.4817796
A26: (a) | B26: Ohne Landwirtschaftssektor
B27: Settore agricolo escluso
A28: Quelle: NISF, Auswertung ASTAT | I28: Fonte: INPS, elaborazione ASTAT

Sheet Tab. 14
A1: Tab. 14 | F1: Inhaltsverzeichnis / Indice
A2: Abhängig Beschäftigte mit Vollzeitstelle in der Privatwirtschaft (a) nach beruflicher Qualifikation und Geschlecht - 2019-2023
A3: Personale dipendente a tempo pieno nel settore privato (a) per qualifica professionale e sesso - 2019-2023
A5: BERUFLICHE QUALIFIKATION | C5: Männer Maschi | D5: Frauen Femmine | E5: Insgesamt Totale | F5: QUALIFICA PROFESSIONALE
A7: 2019
A9: Arbeiter/innen | C9: 63969 | D9: 20683 | E9: 84652 | F9: Operai/e
A10: Angestellte | C10: 25708 | D10: 19095 | E10: 44803 | F10: Impiegati/e
A11: Leitende Mitarbeiter/innen | C11: 3010 | D11: 551 | E11: 3561 | F11: Quadri/e
A12: Führungskräfte | C12: 741 | D12: 58 | E12: 799 | F12: Dirigenti
A13: Lehrlinge | C13: 4030 | D13: 1599 | E13: 5629 | F13: Apprendisti/e
A14: Anderes | C14: 140 | D14: 96 | E14: 236 | F14: Altro
A16: Insgesamt | C16: 97598 | D16: 42082 | E16: 139680 | F16: Totale
A18: 2020
A20: Arbeiter/innen | C20: 60870 | D20: 18329 | E20: 79199 | F20: Operai/e
A21: Angestellte | C21: 25799 | D21: 18881 | E21: 44680 | F21: Impiegati/e
A22: Leitende Mitarbeiter/innen | C22: 3040 | D22: 573 | E22: 3613 | F22: Quadri/e
A23: Führungskräfte | C23: 737 | D23: 62 | E23: 799 | F23: Dirigenti
A24: Lehrlinge | C24: 3888 | D24: 1565 | E24: 5453 | F24: Apprendisti/e
A25: Anderes | C25: 136 | D25: 82 | E25: 218 | F25: Altro
A27: Insgesamt | C27: 94470 | D27: 39492 | E27: 133962 | F27: Totale
A29: 2021
A31: Arbeiter/innen | C31: 62668 | D31: 19301 | E31: 81969 | F31: Operai/e
A32: Angestellte | C32: 26769 | D32: 19484 | E32: 46253 | F32: Impiegati/e
A33: Leitende Mitarbeiter/innen | C33: 3043 | D33: 601 | E33: 3644 | F33: Quadri/e
A34: Führungskräfte | C34: 745 | D34: 63 | E34: 808 | F34: Dirigenti
A35: Lehrlinge | C35: 3854 | D35: 1589 | E35: 5443 | F35: Apprendisti/e
A36: Anderes | C36: 143 | D36: 83 | E36: 226 | F36: Altro
A38: Insgesamt | C38: 97222 | D38: 41121 | E38: 138343 | F38: Totale
A40: 2022
A42: Arbeiter/innen | C42: 65172 | D42: 21367 | E42: 86539 | F42: Operai/e
A43: Angestellte | C43: 27762 | D43: 20284 | E43: 48046 | F43: Impiegati/e
A44: Leitende Mitarbeiter/innen | C44: 3167 | D44: 634 | E44: 3801 | F44: Quadri/e
A45: Führungskräfte | C45: 735 | D45: 61 | E45: 796 | F45: Dirigenti
A46: Lehrlinge | C46: 3972 | D46: 1556 | E46: 5528 | F46: Apprendisti/e
A47: Anderes | C47: 168 | D47: 103 | E47: 271 | F47: Altro
A49: Insgesamt | C49: 100976 | D49: 44005 | E49: 144981 | F49: Totale
A51: 2023
A53: Arbeiter/innen | C53: 66543 | D53: 21966 | E53: 88509 | F53: Operai/e
A54: Angestellte | C54: 28513 | D54: 21267 | E54: 49780 | F54: Impiegati/e
A55: Leitende Mitarbeiter/innen | C55: 3327 | D55: 719 | E55: 4046 | F55: Quadri/e
A56: Führungskräfte | C56: 755 | D56: 71 | E56: 826 | F56: Dirigenti
A57: Lehrlinge | C57: 4028 | D57: 1611 | E57: 5639 | F57: Apprendisti/e
A58: Anderes | C58: 192 | D58: 120 | E58: 312 | F58: Altro
A60: Insgesamt | C60: 103358 | D60: 45754 | E60: 149112 | F60: Totale
A62: (a) | B62: Ohne Landwirtschaftssektor
B63: Settore agricolo escluso
A64: Quelle: NISF, Auswertung ASTAT | F64: Fonte: INPS, elaborazione ASTAT

Sheet Tab. 15
A1: Tab. 15 | F1: Inhaltsverzeichnis / Indice
A2: Abhängig Beschäftigte mit Vollzeitstelle in der Privatwirtschaft (a) im Gastgewerbe/Beherbergung und Gastronomie nach beruflicher Qualifikation und Geschlecht - 2019-2023
A3: Personale dipendente a tempo pieno nel settore privato (a) nelle Attività dei servizi di alloggio e di ristorazione per qualifica professionale e sesso - 2019-2023
A5: BERUFLICHE QUALIFIKATION | C5: Männer Maschi | D5: Frauen Femmine | E5: Insgesamt Totale | F5: QUALIFICA PROFESSIONALE
A7: 2019
A9: Arbeiter/innen | C9: 15686 | D9: 14934 | E9: 30620 | F9: Operai/e
A10: Angestellte | C10: 599 | D10: 1772 | E10: 2371 | F10: Impiegati/e
A11: Leitende Mitarbeiter/innen | C11: * | D11: * | E11: * | F11: Quadri/e
A12: Führungskräfte | C12: * | D12: - | E12: * | F12: Dirigenti
A13: Lehrlinge | C13: 495 | D13: 355 | E13: 850 | F13: Apprendisti/e
A14: Anderes | C14: - | D14: - | E14: - | F14: Altro
A16: Insgesamt | C16: 16830 | D16: 17090 | E16: 33920 | F16: Totale
A18: 2020
A20: Arbeiter/innen | C20: 13128 | D20: 12617 | E20: 25745 | F20: Operai/e
A21: Angestellte | C21: 541 | D21: 1539 | E21: 2080 | F21: Impiegati/e
A22: Leitende Mitarbeiter/innen | C22: * | D22: * | E22: * | F22: Quadri/e
A23: Führungskräfte | C23: * | D23: - | E23: * | F23: Dirigenti
A24: Lehrlinge | C24: 453 | D24: 354 | E24: 807 | F24: Apprendisti/e
A25: Anderes | C25: - | D25: - | E25: - | F25: Altro
A27: Insgesamt | C27: 14167 | D27: 14538 | E27: 28705 | F27: Totale
A29: 2021
A31: Arbeiter/innen | C31: 14494 | D31: 13350 | E31: 27844 | F31: Operai/e
A32: Angestellte | C32: 596 | D32: 1686 | E32: 2282 | F32: Impiegati/e
A33: Leitende Mitarbeiter/innen | C33: * | D33: * | E33: * | F33: Quadri/e
A34: Führungskräfte | C34: * | D34: - | E34: * | F34: Dirigenti
A35: Lehrlinge | C35: 388 | D35: 328 | E35: 716 | F35: Apprendisti/e
A36: Anderes | C36: - | D36: - | E36: - | F36: Altro
A38: Insgesamt | C38: 15522 | D38: 15392 | E38: 30914 | F38: Totale
A40: 2022
A42: Arbeiter/innen | C42: 16809 | D42: 15296 | E42: 32105 | F42: Operai/e
A43: Angestellte | C43: 734 | D43: 1922 | E43: 2656 | F43: Impiegati/e
A44: Leitende Mitarbeiter/innen | C44: * | D44: * | E44: * | F44: Quadri/e
A45: Führungskräfte | C45: * | D45: - | E45: * | F45: Dirigenti
A46: Lehrlinge | C46: 404 | D46: 301 | E46: 705 | F46: Apprendisti/e
A47: Anderes | C47: - | D47: - | E47: - | F47: Altro
A49: Insgesamt | C49: 17996 | D49: 17542 | E49: 35538 | F49: Totale
A51: 2023
A53: Arbeiter/innen | C53: 18000 | D53: 16064 | E53: 34064 | F53: Operai/e
A54: Angestellte | C54: 745 | D54: 2079 | E54: 2824 | F54: Impiegati/e
A55: Leitende Mitarbeiter/innen | C55: * | D55: * | E55: * | F55: Quadri/e
A56: Führungskräfte | C56: - | D56: * | E56: * | F56: Dirigenti
A57: Lehrlinge | C57: 419 | D57: 323 | E57: 742 | F57: Apprendisti/e
A58: Anderes | C58: - | D58: - | E58: - | F58: Altro
A60: Insgesamt | C60: 19212 | D60: 18492 | E60: 37704 | F60: Totale
A62: (a) | B62: Ohne Landwirtschaftssektor
B63: Settore agricolo escluso
A64: Quelle: NISF, Auswertung ASTAT | F64: Fonte: INPS, elaborazione ASTAT

Sheet Tab. 16
A1: Tab. 16 | L1: Inhaltsverzeichnis / Indice
A2: Abhängig Beschäftigte mit Vollzeitstelle in der Privatwirtschaft (a) und Bruttotagesentlohnung nach Wirtschaftsbereich und beruflicher Qualifikation - 2023
A3: Durchschnittlicher Betrag in Euro
A4: Personale dipendente a tempo pieno nel settore privato (a) e retribuzione giornaliera lorda per settore economico e qualifica professionale - 2023
A5: Importo medio in euro
A7: WIRTSCHAFTSBEREICH UND BERUFLICHE QUALIFIKATION | C7: Männer Maschi | F7: Frauen Femmine | I7: Insgesamt Totale | L7: SETTORE ECONOMICO E QUALIFICA PROFESSIONALE
C8: Anzahl Numero | D8: % Verteilung Composizione % | E8: Bruttotagesentlohnung Retribuzione giornaliera lorda | F8: Anzahl Numero | G8: % Verteilung Composizione % | H8: Bruttotagesentlohnung Retribuzione giornaliera lorda | I8: Anzahl Numero | J8: % Verteilung Composizione % | K8: Bruttotagesentlohnung Retribuzione giornaliera lorda
A10: Bergbau und Gewinnung von Steinen und Erden | C10: 336 | D10: 100 | E10: 133.83157 | F10: 18 | G10: 100 | H10: 134.12527 | I10: 354 | J10: 100 | K10: 133.84753 | L10: Estrazione di minerali da cave e miniere
A11: Arbeiter/innen | C11: 304 | D11: 90.47619 | E11: 129.44324 | F11: 4 | G11: 22.222222 | H11: 94.928495 | I11: 308 | J11: 87.00565 | K11: 129.04182 | L11: Operai
A12: Angestellte | C12: 27 | D12: 8.0357143 | E12: 177.88898 | F12: 14 | G12: 77.777778 | H12: 142.94549 | I12: 41 | J12: 11.581921 | K12: 166.04874 | L12: Impiegati
A13: Leitende Mitarbeiter/innen | C13: * | D13: * | E13: 228.89744 | F13: - | G13: - | H13: - | I13: * | J13: * | K13: 228.89744 | L13: Quadri
A14: Führungskräfte | C14: - | D14: - | E14: - | F14: - | G14: - | H14: - | I14: - | J14: - | K14: - | L14: Dirigenti
A15: Lehrlinge | C15: * | D15: * | E15: 80.933518 | F15: - | G15: - | H15: - | I15: * | J15: * | K15: 80.933518 | L15: Apprendisti
A16: Anderes | C16: - | D16: - | E16: - | F16: - | G16: - | H16: - | I16: - | J16: - | K16: - | L16: Altro
A18: Verarbeitendes Gewerbe und Herstellung von Waren | C18: 25724 | D18: 100 | E18: 138.00094 | F18: 4653 | G18: 100 | H18: 115.96911 | I18: 30377 | J18: 100 | K18: 134.71963 | L18: Attività manifatturiere
A19: Arbeiter/innen | C19: 16986 | D19: 66.031721 | E19: 113.9246 | F19: 1999 | G19: 42.96153 | H19: 95.481962 | I19: 18985 | J19: 62.497943 | K19: 112.05159 | L19: Operai
A20: Angestellte | C20: 6671 | D20: 25.932981 | E20: 168.7442 | F20: 2344 | G20: 50.376101 | H20: 127.033 | I20: 9015 | J20: 29.677058 | K20: 158.28769 | L20: Impiegati
A21: Leitende Mitarbeiter/innen | C21: 697 | D21: 2.709532 | E21: 292.30535 | F21: 93 | G21: 1.9987105 | H21: 258.02705 | I21: 790 | J21: 2.6006518 | K21: 288.49889 | L21: Quadri
A22: Führungskräfte | C22: 278 | D22: 1.0807028 | E22: 640.42805 | F22: 16 | G22: 0.34386417 | H22: 521.7168 | I22: 294 | J22: 0.96783751 | K22: 634.456 | L22: Dirigenti
A23: Lehrlinge | C23: 1059 | D23: 4.1167781 | E23: 53.940996 | F23: 181 | G23: 3.8899635 | H23: 61.205537 | I23: 1240 | J23: 4.0820358 | K23: 54.976677 | L23: Apprendisti
A24: Anderes | C24: 33 | D24: 0.12828487 | E24: 212.69181 | F24: 20 | G24: 0.42983022 | H24: 206.0317 | I24: 53 | J24: 0.17447411 | K24: 210.26864 | L24: Altro
A26: Energieversorgung | C26: 1278 | D26: 100 | E26: 184.5817 | F26: 205 | G26: 100 | H26: 160.12146 | I26: 1483 | J26: 100 | K26: 181.31212 | L26: Fornitura di energia elettrica, gas, vapore e aria condizionata
A27: Arbeiter/innen | C27: * | D27: * | E27: 149.16328 | F27: * | G27: * | H27: 77.791667 | I27: 529 | J27: 35.670937 | K27: 149.01749 | L27: Operai
A28: Angestellte | C28: 602 | D28: 47.104851 | E28: 172.5175 | F28: 186 | G28: 90.731707 | H28: 146.6361 | I28: 788 | J28: 53.135536 | K28: 166.5631 | L28: Impiegati
A29: Leitende Mitarbeiter/innen | C29: 110 | D29: 8.6071987 | E29: 290.61175 | F29: 13 | G29: 6.3414634 | H29: 281.12206 | I29: 123 | J29: 8.2939987 | K29: 289.60581 | L29: Quadri
A30: Führungskräfte | C30: * | D30: * | E30: 586.52796 | F30: * | G30: * | H30: 422.52031 | I30: 40 | J30: 2.6972353 | K30: 571.4926 | L30: Dirigenti
A31: Lehrlinge | C31: * | D31: * | E31: 75.418269 | F31: - | G31: - | H31: - | I31: - | J31: - | K31: 75.418269 | L31: Apprendisti
A32: Anderes | C32: * | D32: * | E32: 499.08442 | F32: - | G32: - | H32: - | I32: - | J32: - | K32: 499.08442 | L32: Altro
A34: Wasserversorgung; Abwasser- und Abfallentsorgung und Beseitigung von Umweltschmutzungen | C34: 687 | D34: 100 | E34: 131.44201 | F34: 45 | G34: 100 | H34: 143.60273 | I34: 732 | J34: 100 | K34: 132.19005 | L34: Fornitura di acqua; reti fognarie, attività di gestione dei rifiuti e risanamento
A35: Arbeiter/innen | C35: * | D35: * | E35: 123.44362 | F35: * | G35: * | H35: 97.779026 | I35: 597 | J35: 81.557377 | K35: 123.36186 | L35: Operai
A36: Angestellte | C36: 74 | D36: 10.77147 | E36: 147.03031 | F36: 37 | G36: 82.222222 | H36: 128.90293 | I36: 111 | J36: 15.163934 | K36: 141.19964 | L36: Impiegati
A37: Leitende Mitarbeiter/innen | C37: * | D37: * | E37: 292.41689 | F37: * | G37: * | H37: 253.57875 | I37: 21 | J37: 2.8688525 | K37: 281.8458 | L37: Quadri
A38: Führungskräfte | C38: * | D38: * | E38: 449.06614 | F38: - | G38: - | H38: - | I38: * | J38: * | K38: 449.06614 | L38: Dirigenti
A39: Lehrlinge | C39: - | D39: - | E39: - | F39: - | G39: - | H39: - | I39: - | J39: - | K39: - | L39: Apprendisti
A40: Anderes | C40: - | D40: - | E40: - | F40: - | G40: - | H40: - | I40: - | J40: - | K40: - | L40: Altro
A42: Baugewerbe/Bau | C42: 16036 | D42: 100 | E42: 115.70412 | F42: 753 | G42: 100 | H42: 116.24609 | I42: 16789 | J42: 100 | K42: 115.72945 | L42: Costruzioni
A43: Arbeiter/innen | C43: 13056 | D43: 81.416812 | E43: 112.00412 | F43: 69 | G43: 9.1633466 | H43: 96.983152 | I43: 13125 | J43: 78.176187 | K43: 111.94106 | L43: Operai
A44: Angestellte | C44: 1564 | D44: 9.7530556 | E44: 170.21089 | F44: 610 | G44: 81.009296 | H44: 119.88162 | I44: 2174 | J44: 12.948955 | K44: 156.67721 | L44: Impiegati
A45: Leitende Mitarbeiter/innen | C45: * | D45: * | E45: 279.9218 | F45: * | G45: * | H45: 232.65545 | I45: 63 | J45: 0.3752457 | K45: 271.86164 | L45: Quadri
A46: Führungskräfte | C46: * | D46: * | E46: 503.34784 | F46: * | G46: * | H46: 224.71154 | I46: 31 | J46: 0.18464471 | K46: 494.15814 | L46: Dirigenti
A47: Lehrlinge | C47: 1334 | D47: 8.3187827 | E47: 56.825943 | F47: 62 | G47: 8.2337317 | H47: 58.665345 | I47: 1396 | J47: 8.3149681 | K47: 56.897342 | L47: Apprendisti
A48: Anderes | C48: - | D48: - | E48: - | F48: - | G48: - | H48: - | I48: - | J48: - | K48: - | L48: Altro
A50: Handel; Reparatur von Kraftwagen und Krafträdern | C50: 16832 | D50: 100 | E50: 133.3382 | F50: 7932 | G50: 100 | H50: 106.20776 | I50: 24764 | J50: 100 | K50: 125.20289 | L50: Commercio all'ingrosso e al dettaglio; riparazione di autoveicoli e motocicli
A51: Arbeiter/innen | C51: 6055 | D51: 35.973146 | E51: 107.88412 | F51: 1179 | G51: 14.863843 | H51: 90.875358 | I51: 7234 | J51: 29.211759 | K51: 105.44844 | L51: Operai
A52: Angestellte | C52: 9450 | D52: 56.143061 | E52: 137.69251 | F52: 6320 | G52: 79.677257 | H52: 107.35692 | I52: 15770 | J52: 63.68115 | K52: 126.30789 | L52: Impiegati
A53: Leitende Mitarbeiter/innen | C53: 557 | D53: 3.309173 | E53: 282.33253 | F53: 112 | G53: 1.412002 | H53: 238.94275 | I53: 669 | J53: 2.7015022 | K53: 275.2489 | L53: Quadri
A54: Führungskräfte | C54: 119 | D54: 0.70698669 | E54: 625.04981 | F54: 11 | G54: 0.13867877 | H54: 455.67253 | I54: 130 | J54: 0.52495558 | K54: 610.06133 | L54: Dirigenti
A55: Lehrlinge | C55: 641 | D55: 3.8082224 | E55: 51.031215 | F55: 306 | G55: 3.8577912 | H55: 60.807869 | I55: 947 | J55: 3.8240995 | K55: 54.151361 | L55: Apprendisti
A56: Anderes | C56: 10 | D56: 0.059410646 | E56: 139.82838 | F56: 4 | G56: 0.050428643 | H56: 153.2596 | I56: 14 | J56: 0.056533678 | K56: 142.74703 | L56: Altro
A58: Verkehr und Lagerung | C58: 8048 | D58: 100 | E58: 118.93533 | F58: 1267 | G58: 100 | H58: 114.61786 | I58: 9315 | J58: 100 | K58: 118.31975 | L58: Trasporto e magazzinaggio
A59: Arbeiter/innen | C59: 6278 | D59: 78.006958 | E59: 108.99109 | F59: 247 | G59: 19.49487 | H59: 97.660032 | I59: 6525 | J59: 70.048309 | K59: 108.61908 | L59: Operai
A60: Angestellte | C60: 1426 | D60: 17.718688 | E60: 132.53574 | F60: 898 | G60: 70.876085 | H60: 112.36712 | I60: 2324 | J60: 24.949007 | K60: 124.88916 | L60: Impiegati
A61: Leitende Mitarbeiter/innen | C61: 171 | D61: 2.1247515 | E61: 208.00199 | F61: 61 | G61: 4.8145225 | H61: 177.11062 | I61: 232 | J61: 2.4906065 | K61: 199.95865 | L61: Quadri
A62: Führungskräfte | C62: 39 | D62: 0.48459245 | E62: 536.14469 | F62: 6 | G62: 0.47355959 | H62: 501.86041 | I62: 45 | J62: 0.48309179 | K62: 532.07263 | L62: Dirigenti
... A68: Angestellte | C68: 745 | D68: 3.8777847 | E68: 132.68307 | F68: 2079 | G68: 11.2427 | H68: 113.35065 | I68: 2824 | J68: 7.4899215 | K68: 118.58352 | L68: Impiegati
A69: Leitende Mitarbeiter/innen | C69: * | D69: * | E69: 262.90289 | F69: * | G69: * | H69: 241.66431 | I69: * | J69: * | K69: 255.75588 | L69: Quadri
A70: Führungskräfte | C70: - | D70: - | E70: - | F70: * | G70: * | H70: 312.52143 | I70: * | J70: * | K70: 312.52143 | L70: Dirigenti
A71: Lehrlinge | C71: 419 | D71: 2.1809286 | E71: 62.172246 | F71: 323 | G71: 1.7467013 | H71: 60.789206 | I71: 742 | J71: 1.967961 | K71: 61.580092 | L71: Apprendisti
A72: Anderes | C72: - | D72: - | E72: - | F72: - | G72: - | H72: - | I72: - | J72: - | K72: - | L72: Altro
A74: Information und Kommunikation | C74: 2068 | D74: 100 | E74: 169.04831 | F74: 860 | G74: 100 | H74: 136.3415 | I74: 2928 | J74: 100 | K74: 160.08195 | L74: Servizi di informazione e comunicazione
A75: Arbeiter/innen | C75: 277 | D75: 13.394584 | E75: 123.64353 | F75: 149 | G75: 17.325581 | H75: 147.46767 | I75: 426 | J75: 14.54918 | K75: 128.73985 | L75: Operai
A76: Angestellte | C76: 1425 | D76: 68.907157 | E76: 147.31221 | F76: 595 | G76: 69.186047 | H76: 125.439 | I76: 2020 | J76: 68.989071 | K76: 141.04392 | L76: Impiegati
A77: Leitende Mitarbeiter/innen | C77: 213 | D77: 10.299807 | E77: 252.1855 | F77: 27 | G77: 3.1395349 | H77: 209.57595 | I77: 240 | J77: 8.1967213 | K77: 247.4292 | L77: Quadri
A78: Führungskräfte | C78: * | D78: * | E78: 548.2405 | F78: * | G78: * | H78: 465.12821 | I78: 28 | J78: 0.95628415 | K78: 545.04898 | L78: Dirigenti
A79: Lehrlinge | C79: * | D79: * | E79: 75.83987 | F79: * | G79: * | H79: 76.918224 | I79: 61 | J79: 2.0833333 | K79: 76.330435 | L79: Apprendisti
A80: Anderes | C80: 92 | D80: 4.4487427 | E80: 248.20343 | F80: 61 | G80: 7.0930233 | H80: 216.22187 | I80: 153 | J80: 5.2254098 | K80: 235.43316 | L80: Altro
A82: Erbringung von Finanz- und Versicherungsdienstleistungen | C82: 2466 | D82: 100 | E82: 217.0832 | F82: 1344 | G82: 100 | H82: 152.81708 | I82: 3810 | J82: 100 | K82: 195.01617 | L82: Attività finanziarie e assicurative
A83: Arbeiter/innen | C83: 6 | D83: 0.243309 | E83: 121.12767 | F83: - | G83: - | H83: - | I83: 6 | J83: 0.15748031 | K83: 121.12767 | L83: Operai
A84: Angestellte | C84: 1108 | D84: 44.931062 | E84: 163.82866 | F84: 923 | G84: 68.675595 | H84: 137.90519 | I84: 2031 | J84: 53.307087 | K84: 152.25815 | L84: Impiegati
A85: Leitende Mitarbeiter/innen | C85: 1080 | D85: 43.79562 | E85: 245.33342 | F85: 241 | G85: 17.931548 | H85: 216.98243 | I85: 1321 | J85: 34.671916 | K85: 240.13616 | L85: Quadri
A86: Führungskräfte | C86: 124 | D86: 5.0283861 | E86: 555.70799 | F86: 12 | G86: 0.89285714 | H86: 497.49653 | I86: 136 | J86: 3.5695538 | K86: 550.39851 | L86: Dirigenti
A87: Lehrlinge | C87: 148 | D87: 6.0016221 | E87: 106.16176 | F87: 168 | G87: 12.5 | H87: 104.20477 | I87: 316 | J87: 8.2939633 | K87: 105.14176 | L87: Apprendisti
A88: Anderes | C88: - | D88: - | E88: - | F88: - | G88: - | H88: - | I88: - | J88: - | K88: - | L88: Altro
A90: Grundstücks- und Wohnungswesen | C90: 198 | D90: 100 | E90: 177.99938 | F90: 180 | G90: 100 | H90: 124.22627 | I90: 378 | J90: 100 | K90: 153.20302 | L90: Attività immobiliari
A91: Arbeiter/innen | C91: 42 | D91: 21.212121 | E91: 109.60799 | F91: 27 | G91: 15 | H91: 96.65381 | I91: 69 | J91: 18.253968 | K91: 105.65847 | L91: Operai
A92: Angestellte | C92: 124 | D92: 62.626263 | E92: 173.64306 | F92: 140 | G92: 77.777778 | H92: 122.23802 | I92: 264 | J92: 69.84127 | K92: 146.8443 | L92: Impiegati
A93: Leitende Mitarbeiter/innen | C93: * | D93: * | E93: 284.40152 | F93: * | G93: * | H93: 194.42134 | I93: 25 | J93: 6.6137566 | K93: 271.23601 | L93: Quadri
A94: Führungskräfte | C94: * | D94: * | E94: 498.34189 | F94: * | G94: * | H94: 415.75641 | I94: 4 | J94: 1.0582011 | K94: 457.01604 | L94: Dirigenti
A95: Lehrlinge | C95: 9 | D95: 4.5454545 | E95: 144.3272 | F95: 7 | G95: 3.8888889 | H95: 88.035872 | I95: 16 | J95: 4.2328042 | K95: 118.39283 | L95: Apprendisti
A96: Anderes | C96: - | D96: - | E96: - | F96: - | G96: - | H96: - | I96: - | J96: - | K96: - | L96: Altro
A98: Erbringung von freiberuflichen, wissenschaftlichen und technischen Dienstleistungen | C98: 2421 | D98: 100 | E98: 164.81149 | F98: 2171 | G98: 100 | H98: 123.28527 | I98: 4592 | J98: 100 | K98: 145.5183 | L98: Attività professionali, scientifiche e tecniche
A99: Arbeiter/innen | C99: 116 | D99: 4.7914085 | E99: 120.16425 | F99: 54 | G99: 2.487333 | H99: 89.455581 | I99: 170 | J99: 3.7020906 | K99: 112.78826 | L99: Operai
A100: Angestellte | C100: 2003 | D100: 82.734407 | E100: 152.23089 | F100: 1885 | G100: 86.826347 | H100: 125.12589 | I100: 3888 | J100: 84.66899 | K100: 139.29132 | L100: Impiegati
A101: Leitende Mitarbeiter/innen | C101: * | D101: * | E101: 275.80389 | F101: * | G101: * | H101: 232.28404 | I101: 174 | J101: 3.7891986 | K101: 266.65869 | L101: Quadri
A102: Führungskräfte | C102: * | D102: * | E102: 686.43686 | F102: * | G102: * | H102: 357.36758 | I102: 43 | J102: 0.93641115 | K102: 670.91284 | L102: Dirigenti
A103: Lehrlinge | C103: 123 | D103: 5.0805452 | E103: 81.472249 | F103: 192 | G103: 8.8438508 | H103: 83.538154 | I103: 315 | J103: 6.8597561 | K103: 82.749123 | L103: Apprendisti
A104: Anderes | C104: - | D104: - | E104: - | F104: * | G104: * | H104: 209.39528 | I104: * | J104: * | K104: 209.39528 | L104: Altro
A106: Vermietung, Reisebüros, unterstützende Dienstleistungen für Unternehmen | C106: 3093 | D106: 100 | E106: 120.42741 | F106: 1536 | G106: 100 | H106: 109.19872 | I106: 4629 | J106: 100 | K106: 116.60631 | L106: Noleggio, agenzie di viaggio, servizi di supporto alle imprese
A107: Arbeiter/innen | C107: 1942 | D107: 62.786938 | E107: 87.807824 | F107: 444 | G107: 28.90625 | H107: 79.03324 | I107: 2386 | J107: 51.54461 | K107: 86.261416 | L107: Operai
A108: Angestellte | C108: 1034 | D108: 33.430327 | E108: 146.18465 | F108: 1037 | G108: 67.513021 | H108: 115.6479 | I108: 2071 | J108: 44.739685 | K108: 131.30748 | L108: Impiegati
A109: Leitende Mitarbeiter/innen | C109: 68 | D109: 2.1985128 | E109: 282.16431 | F109: 18 | G109: 1.171875 | H109: 244.83891 | I109: 86 | J109: 1.8578527 | K109: 274.64926 | L109: Quadri
A110: Führungskräfte | C110: * | D110: * | E110: 458.81146 | F110: * | G110: * | H110: 574.38539 | I110: 25 | J110: 0.54007345 | K110: 469.60929 | L110: Dirigenti
A111: Lehrlinge | C111: 26 | D111: 0.84060782 | E111: 63.607285 | F111: 31 | G111: 2.0182292 | H111: 76.481872 | I111: 57 | J111: 1.2313675 | K111: 70.906862 | L111: Apprendisti
A112: Anderes | C112: * | D112: * | E112: 226.57372 | F112: * | G112: * | H112: 99.292645 | I112: 4 | J112: 0.086411752 | K112: 141.05047 | L112: Altro
A114: Erziehung und Unterricht | C114: 1229 | D114: 100 | E114: 135.56052 | F114: 1258 | G114: 100 | H114: 117.34235 | I114: 2487 | J114: 100 | K114: 127.01059 | L114: Istruzione
A115: Arbeiter/innen | C115: 483 | D115: 39.300244 | E115: 113.03427 | F115: 188 | G115: 14.944356 | H115: 94.441942 | I115: 671 | J115: 26.980298 | K115: 108.95887 | L115: Operai
A116: Angestellte | C116: 663 | D116: 53.946298 | E116: 142.69865 | F116: 1009 | G116: 80.206677 | H116: 119.09474 | I116: 1672 | J116: 67.229594 | K116: 129.22529 | L116: Impiegati
A117: Leitende Mitarbeiter/innen | C117: 23 | D117: 1.8714402 | E117: 255.55184 | F117: 19 | G117: 1.5103339 | H117: 196.55019 | I117: 42 | J117: 1.6887817 | K117: 232.00976 | L117: Quadri
A118: Führungskräfte | C118: * | D118: * | E118: 613.48291 | F118: - | G118: - | H118: - | I118: * | J118: * | K118: 613.48291 | L118: Dirigenti
A119: Lehrlinge | C119: 55 | D119: 4.4751831 | E119: 109.91404 | F119: 42 | G119: 3.3386328 | H119: 108.46641 | I119: 97 | J119: 3.9002815 | K119: 109.25028 | L119: Apprendisti
...

Sheet Tab. 17
A1: Tab. 17 | I1: Inhaltsverzeichnis / Indice
A2: Abhängig Beschäftigte mit Vollzeitstelle im öffentlichen Dienst (a) nach Funktionsebene und Geschlecht - 2014 und 2023
A3: Personale dipendente a tempo pieno nel settore pubblico (a) per qualifica funzionale e sesso - 2014 e 2023
A5: FUNKTIONSEBENE | C5: 2014 | F5: 2023 | I5: QUALIFICA FUNZIONALE
C6: Männer Maschi | D6: Frauen Femmine | E6: Insgesamt totale | F6: Männer Maschi | G6: Frauen Femmine | H6: Insgesamt totale
A8: 1 | C8: * | D8: * | E8: 8 | F8: - | G8: 5 | H8: 5 | I8: 1
A9: 2 | C9: 378 | D9: 474 | E9: 852 | F9: 293 | G9: 316 | H9: 609 | I9: 2
A10: 3 | C10: * | D10: * | E10: 632 | F10: 374 | G10: 42 | H10: 416 | I10: 3
A11: 4 | C11: 989 | D11: 662 | E11: 1651 | F11: 1011 | G11: 495 | H11: 1506 | I11: 4
A12: 5 | C12: 692 | D12: 568 | E12: 1260 | F12: 559 | G12: 311 | H12: 870 | I12: 5
A13: 6 | C13: 771 | D13: 1650 | E13: 2421 | F13: 781 | G13: 1883 | H13: 2664 | I13: 6
A14: 7 | C14: 380 | D14: 249 | E14: 629 | F14: 757 | G14: 547 | H14: 1304 | I14: 7
A15: 8 | C15: 410 | D15: 607 | E15: 1017 | F15: 727 | G15: 1150 | H15: 1877 | I15: 8
A16: 9 | C16: 290 | D16: 113 | E16: 403 | F16: 288 | G16: 150 | H16: 438 | I16: 9
A18: Insgesamt | C18: 5383 | D18: 5506 | E18: 10889 | F18: 4790 | G18: 4899 | H18: 9689 | I18: Totale
A20: (a) | B20: Die NISF-Zahl unterscheidet sich von den vom ASTAT erhobenen Daten dadurch, dass sie alle Personen umfasst, die im Berichtsjahr mindestens einen bezahlten Tag aufzuweisen hatten. Die ASTAT-Zahl hingegen bezieht sich auf den Bestand an Beschäftigten in der öffentlichen Verwaltung zum 31.12. des Berichtsjahres.
B21: Il dato INPS differisce da quello rilevato da ASTAT, poiché riguarda tutte le persone che hanno avuto almeno una giornata retribuita nel corso dell’anno osservato. Il dato ASTAT, invece, riguarda lo stock di persone occupate nella pubblica amministrazione al 31.12 dell’anno in esame.
A22: Quelle: ASTAT | I22: Fonte: ASTAT

Sheet Tab. 18
A1: Tab. 18 | H1: Inhaltsverzeichnis / Indice
A2: Abhängig Beschäftigte mit Vollzeitstelle im öffentlichen Dienst nach Art des Vertrages und Geschlecht - 2019-2023
A3: Personale dipendente a tempo pieno nel settore pubblico per tipologia contrattuale e sesso - 2019-2023
A5: JAHR ANNO | C5: Unbefristet Tempo indeterminato | E5: Befristet Tempo determinato | G5: Insgesamt Totale
C6: Anzahl Numero | D6: % Veränderung gegenüber 2019 Variazione % rispetto al 2019 | E6: Anzahl Numero | F6: % Veränderung gegenüber 2019 Variazione % rispetto al 2019 | G6: Anzahl Numero | H6: % Veränderung gegenüber 2019 Variazione % rispetto al 2019
A8: Männer / Maschi
A10: 2019 | C10: 14087 | D10: - | E10: 2237 | F10: - | G10: 16324 | H10: -
A11: 2020 | C11: 14026 | D11: -0.43302335 | E11: 2256 | F11: 0.84935181 | G11: 16282 | H11: -0.25728988
A12: 2021 | C12: 13894 | D12: -1.3700575 | E12: 2365 | F12: 5.721949 | G12: 16259 | H12: -0.39818672
A13: 2022 | C13: 13858 | D13: -1.6256123 | E13: 2386 | F13: 6.6607063 | G13: 16244 | H13: -0.49007596
A14: 2023 | C14: 13876 | D14: -1.4978349 | E14: 2224 | F14: -0.58113545 | G14: 16100 | H14: -1.3722127
A16: Frauen / Femmine
A18: 2019 | C18: 13928 | D18: - | E18: 5054 | F18: - | G18: 18982 | H18: -
A19: 2020 | C19: 13958 | D19: 0.21539345 | E19: 5192 | F19: 2.7305105 | G19: 19150 | H19: 0.88504899
A20: 2021 | C20: 14126 | D20: 1.4215968 | E20: 5477 | F20: 8.3696082 | G20: 19603 | H20: 3.2715204
A21: 2022 | C21: 14125 | D21: 1.414417 | E21: 5413 | F21: 7.1032845 | G21: 19538 | H21: 2.9290907
A22: 2023 | C22: 14286 | D22: 2.5703619 | E22: 4966 | F22: -1.7411951 | G22: 19252 | H22: 1.4224002
A24: (a) | B24: Ohne Landwirtschaftssektor
B25: Settore agricolo escluso
A26: Quelle: NISF, Auswertung ASTAT | H26: Fonte: INPS, elaborazione ASTAT

Sheet Tab. 19
A1: Tab. 19 | G1: Inhaltsverzeichnis / Indice
A2: Von den abhängig Beschäftigten mit Vollzeitstelle in der Privatwirtschaft (a) und im öffentlichen Dienst gearbeitete Tage nach Geschlecht - 2014-2023
A3: Giornate lavorate dal personale dipendente a tempo pieno nel settore privato (a) e nel settore pubblico per sesso - 2014-2023
A5: JAHR ANNO | C5: Privatwirtschaft Settore privato | F5: Öffentlicher Dienst Settore pubblico
C6: Männer Uomini | D6: Frauen Donne | E6: Unterschied Scarto | F6: Männer Uomini | G6: Frauen Donne | H6: Unterschied Scarto
A8: 2014 | C8: 256.76302 | D8: 226.56102 | E8: 30.202003 | F8: 300.3357 | G8: 290.04027 | H8: 10.295437
A9: 2015 | C9: 255.57129 | D9: 225.66089 | E9: 29.910397 | F9: 298.61341 | G9: 289.14996 | H9: 9.4634439
A10: 2016 | C10: 256.69518 | D10: 226.28141 | E10: 30.413771 | F10: 297.80262 | G10: 290.59733 | H10: 7.2052855
A11: 2017 | C11: 253.14628 | D11: 218.51582 | E11: 34.630459 | F11: 295.57698 | G11: 285.87578 | H11: 9.7012005
A12: 2018 | C12: 252.23115 | D12: 218.35774 | E12: 33.873405 | F12: 293.5931 | G12: 284.99801 | H12: 8.5950888
A13: 2019 | C13: 253.12064 | D13: 218.43864 | E13: 34.681994 | F13: 293.38808 | G13: 284.83121 | H13: 8.5568704
A14: 2020 | C14: 236.86173 | D14: 196.47217 | E14: 40.389562 | F14: 293.31655 | G14: 284.7988 | H14: 8.5177469
A15: 2021 | C15: 244.49213 | D15: 202.16644 | E15: 42.325696 | F15: 291.37548 | G15: 282.10667 | H15: 9.268817
A16: 2022 | C16: 253.20838 | D16: 217.65758 | E16: 35.550792 | F16: 286.88888 | G16: 278.72884 | H16: 8.1600459
A17: 2023 | C17: 253.24553 | D17: 220.33584 | E17: 32.909686 | F17: 290.75373 | G17: 283.83721 | H17: 6.916515
A19: (a) | B19: Ohne Landwirtschaftssektor
B20: Settore agricolo escluso
A21: Quelle: NISF, Auswertung ASTAT | G21: Fonte: INPS, elaborazione ASTAT
