Workbook

Sheet Liv.4 190
H2: TABELLE STIPENDI - GEHALTSAUFSTELLUNG
H3: dal/von | I3: 46023
S5: campi da modificare/Zu ändernde Felder
C7: Personale scuola dell'infanzia - Kindergartenpersonal | G7: COLLABORATORE PEDAGOGICO/COLLABORATRICE PEDAGOGICA | R7: CC del 06.08.2026 - personale del sistema dell'istruzione e della formazione
G8: PÄDAGOGISCHE MITARBEITERIN/MITARBEITER | R8: BKV vom 06.08.2026 - Personal des Bildungssystems | Y8: =Data!H13 -> 42.35
O9: =12 -> 12 | W9: 365 | AD9: 365 | AE9: STRAORDINARI - ÜBERSTUNDEN dal/von 01.09.2026
A10: Avanzamento carriera - beruflicher Aufstieg | C10: LIVELLO BESOLD. STUFE | D10: CLASSE KLASSE | E10: SCATTI VORR. | F10: ANNUO - JÄHRLICH | O10: MENSILE - MONATLICH | W10: =CONCATENATE("GIORNALIERO - TÄGLICH (",W9," giorni/Tage)") -> GIORNALIERO - TÄGLICH (365 giorni/Tage) | AE10: STRAORDINARI - ÜBERSTUNDEN ore amministrativi - Verwaltungsstunden
F11: STIPENDIO GEHALT | G11: I.I.S. S.E.Z. | H11: RETRIB. PROFESSIONALE - BERUFZULAGE | I11: SCATTI BIENNALEI - VORRÜCKUNGEN KG | J11: BILINGUISMO - ZWEISPRACHIKEIT | K11: IND. GRAV. H - HANDICAP | L11: ID. LADINO - LADIENERZULAGE 11% | M11: 13. MA - 13. MONATSGEHALT | N11: TOTALE INSGESAMT | O11: STIPENDIO GEHALT | P11: I.I.S. S.E.Z. | Q11: RETRIB. PROFESSIONALE - BERUFZULAGE | R11: SCATTI BIENNALEI - VORRÜCKUNGEN KG | S11: BILINGUISMO - ZWEISPRACHIKEIT | T11: IND. GRAV. H - HANDICAP | U11: ID. LADINO - LADIENERZULAGE 11% | V11: TOTALE INSGESAMT | W11: STIPENDIO GEHALT | X11: I.I.S. S.E.Z. | Y11: RETRIB. PROFESSIONALE - BERUFZULAGE | Z11: SCATTI BIENNALEI - VORRÜCKUNGEN KG | AA11: BILINGUISMO - ZWEISPRACHIKEIT | AB11: IND. GRAV. H - HANDICAP | AC11: ID. LADINO - LADIENERZULAGE 11% | AD11: TOTALE INSGESAMT | AE11: FERIALE ARB. TAGE | AF11: NOTTURNO NACHT | AG11: FEST / NOTT. F.T / NACHT | AM11: ID. LADINO - LADIENERZULAGE | AN11: IND. GRAV. H - HANDICAP 4%
J12: B1 (ex C) | K12: NO-NEIN | L12: NO-NEIN | AM12: JA | AN12: JA
A13: 0 | B13: Monate | C13: Inf./unt. | D13: 0 | E13: 0 | F13: 10299.66 | G13: 21615.48 | H13: 1320 | I13: 0 | J13: =IF($J$12="NO-NEIN",-720,IF($J$12="B1 (ex C)",0,0)) -> 0 | K13: =IF($K$12="NO-NEIN",0,IF($K$12="SI-JA",$AN$13,0)) -> 0 | L13: =IF($L$12="NO-NEIN",0,IF($L$12="SI-JA",AM13,0)) -> 0 | M13: =+(F13+G13+I13+L13)/12 -> 2659.595 | N13: =SUM(F13:M13) -> 35894.735 | O13: =F13/$O$9 -> 858.305 | P13: =G13/$O$9 -> 1801.29 | Q13: =H13/$O$9 -> 110 | R13: 0 | S13: =J13/$O$9 -> 0 | T13: =K13/$O$9 -> 0 | U13: =+L13/$O$9 -> 0 | V13: =SUM(O13:U13) -> 2769.595 | W13: =F13/$W$9 -> 28.218247 | X13: =G13/$W$9 -> 59.220493 | Y13: =H13/$W$9 -> 3.6164384 | Z13: 0 | AA13: =J13/$W$9 -> 0 | AB13: =K13/$W$9 -> 0 | AC13: =+L13/$W$9 -> 0 | AD13: =SUM(W13:AC13) -> 91.055178 | AE13: =(O13+P13)/160*1.25 -> 20.778086 | AF13: =(O13+P13)/160*1.5 -> 24.933703 | AG13: =(O13+P13)/160*1.55 -> 25.764827 | AM13: =+F13/100*11 -> 1132.9626 | AN13: =+F13/100*4 -> 411.9864
A14: 18 | B14: Monate | C14: 0.06 | D14: 1 | E14: 0 | F14: 10917.64 | G14: 21615.48 | H14: 1320 | I14: 0 | J14: =IF($J$12="NO-NEIN",-720,IF($J$12="B1 (ex C)",0,0)) -> 0 | K14: =IF($K$12="NO-NEIN",0,IF($K$12="SI-JA",$AN$13,0)) -> 0 | L14: =IF($L$12="NO-NEIN",0,IF($L$12="SI-JA",AM14,0)) -> 0 | M14: =+(F14+G14+I14+L14)/12 -> 2711.0933 | N14: =SUM(F14:M14) -> 36564.213 | O14: =F14/$O$9 -> 909.8033 | P14: =G14/$O$9 -> 1801.29 | Q14: =H14/$O$9 -> 110 | R14: 0 | S14: =J14/$O$9 -> 0 | T14: =K14/$O$9 -> 0 | U14: =+L14/$O$9 -> 0 | V14: =SUM(O14:U14) -> 2821.0933 | W14: =F14/$W$9 -> 29.911341 | X14: =G14/$W$9 -> 59.220493 | Y14: =H14/$W$9 -> 3.6164384 | Z14: 0 | AA14: =J14/$W$9 -> 0 | AB14: =K14/$W$9 -> 0 | AC14: =+L14/$W$9 -> 0 | AD14: =SUM(W14:AC14) -> 92.748273 | AE14: =(O14+P14)/160*1.25 -> 21.180416 | AF14: =(O14+P14)/160*1.5 -> 25.4165 | AG14: =(O14+P14)/160*1.55 -> 26.263716 | AM14: =+F14/100*11 -> 1200.9404
A15: 36 | B15: Monate | D15: 2 | E15: 0 | F15: 11535.619 | G15: 21615.48 | H15: 1320 | I15: 0 | J15: =IF($J$12="NO-NEIN",-720,IF($J$12="B1 (ex C)",0,0)) -> 0 | K15: =IF($K$12="NO-NEIN",0,IF($K$12="SI-JA",$AN$13,0)) -> 0 | L15: =IF($L$12="NO-NEIN",0,IF($L$12="SI-JA",AM15,0)) -> 0 | M15: =+(F15+G15+I15+L15)/12 -> 2762.5916 | N15: =SUM(F15:M15) -> 37233.691 | O15: =F15/$O$9 -> 961.3016 | P15: =G15/$O$9 -> 1801.29 | Q15: =H15/$O$9 -> 110 | R15: 0 | S15: =J15/$O$9 -> 0 | T15: =K15/$O$9 -> 0 | U15: =+L15/$O$9 -> 0 | V15: =SUM(O15:U15) -> 2872.5916 | W15: =F15/$W$9 -> 31.604436 | X15: =G15/$W$9 -> 59.220493 | Y15: =H15/$W$9 -> 3.6164384 | Z15: 0 | AA15: =J15/$W$9 -> 0 | AB15: =K15/$W$9 -> 0 | AC15: =+L15/$W$9 -> 0 | AD15: =SUM(W15:AC15) -> 94.441368 | AE15: =(O15+P15)/160*1.25 -> 21.582747 | AF15: =(O15+P15)/160*1.5 -> 25.899296 | AG15: =(O15+P15)/160*1.55 -> 26.762606 | AM15: =+F15/100*11 -> 1268.9181
A16: 54 | B16: Monate | D16: 3 | E16: 0 | F16: 12153.599 | G16: 21615.48 | H16: 1320 | I16: 0 | J16: =IF($J$12="NO-NEIN",-720,IF($J$12="B1 (ex C)",0,0)) -> 0 | K16: =IF($K$12="NO-NEIN",0,IF($K$12="SI-JA",$AN$13,0)) -> 0 | L16: =IF($L$12="NO-NEIN",0,IF($L$12="SI-JA",AM16,0)) -> 0 | M16: =+(F16+G16+I16+L16)/12 -> 2814.0899 | N16: =SUM(F16:M16) -> 37903.169 | O16: =F16/$O$9 -> 1012.7999 | P16: =G16/$O$9 -> 1801.29 | Q16: =H16/$O$9 -> 110 | R16: 0 | S16: =J16/$O$9 -> 0 | T16: =K16/$O$9 -> 0 | U16: =+L16/$O$9 -> 0 | V16: =SUM(O16:U16) -> 2924.0899 | W16: =F16/$W$9 -> 33.297531 | X16: =G16/$W$9 -> 59.220493 | Y16: =H16/$W$9 -> 3.6164384 | Z16: 0 | AA16: =J16/$W$9 -> 0 | AB16: =K16/$W$9 -> 0 | AC16: =+L16/$W$9 -> 0 | AD16: =SUM(W16:AC16) -> 96.134462 | AE16: =(O16+P16)/160*1.25 -> 21.985077 | AF16: =(O16+P16)/160*1.5 -> 26.382093 | AG16: =(O16+P16)/160*1.55 -> 27.261496 | AM16: =+F16/100*11 -> 1336.8959
A17: 72 | B17: Monate | C17: sup./obere | D17: 0 | E17: 0 | F17: 13365.36 | G17: 21615.48 | H17: 1320 | I17: 0 | J17: =IF($J$12="NO-NEIN",-720,IF($J$12="B1 (ex C)",0,0)) -> 0 | K17: =IF($K$12="NO-NEIN",0,IF($K$12="SI-JA",$AN$13,0)) -> 0 | L17: =IF($L$12="NO-NEIN",0,IF($L$12="SI-JA",AM17,0)) -> 0 | M17: =+(F17+G17+I17+L17)/12 -> 2915.07 | N17: =SUM(F17:M17) -> 39215.91 | O17: =F17/$O$9 -> 1113.78 | P17: =G17/$O$9 -> 1801.29 | Q17: =H17/$O$9 -> 110 | R17: 0 | S17: =J17/$O$9 -> 0 | T17: =K17/$O$9 -> 0 | U17: =+L17/$O$9 -> 0 | V17: =SUM(O17:U17) -> 3025.07 | W17: =F17/$W$9 -> 36.617425 | X17: =G17/$W$9 -> 59.220493 | Y17: =H17/$W$9 -> 3.6164384 | Z17: 0 | AA17: =J17/$W$9 -> 0 | AB17: =K17/$W$9 -> 0 | AC17: =+L17/$W$9 -> 0 | AD17: =SUM(W17:AC17) -> 99.454356 | AE17: =(O17+P17)/160*1.25 -> 22.773984 | AF17: =(O17+P17)/160*1.5 -> 27.328781 | AG17: =(O17+P17)/160*1.55 -> 28.239741 | AM17: =+F17/100*11 -> 1470.1896
A18: 8 | B18: Jahre | C18: 0.03 | E18: 1 | F18: 13766.321 | G18: 21615.48 | H18: 1320 | I18: 111.95 | J18: =IF($J$12="NO-NEIN",-720,IF($J$12="B1 (ex C)",0,0)) -> 0 | K18: =IF($K$12="NO-NEIN",0,IF($K$12="SI-JA",$AN$13,0)) -> 0 | L18: =IF($L$12="NO-NEIN",0,IF($L$12="SI-JA",AM18,0)) -> 0 | M18: =+(F18+G18+I18+L18)/12 -> 2957.8126 | N18: =SUM(F18:M18) -> 39771.563 | O18: =F18/$O$9 -> 1147.1934 | P18: =G18/$O$9 -> 1801.29 | Q18: =H18/$O$9 -> 110 | R18: =+I18/12 -> 9.3291667 | S18: =J18/$O$9 -> 0 | T18: =K18/$O$9 -> 0 | U18: =+L18/$O$9 -> 0 | V18: =SUM(O18:U18) -> 3067.8126 | W18: =F18/$W$9 -> 37.715947 | X18: =G18/$W$9 -> 59.220493 | Y18: =H18/$W$9 -> 3.6164384 | Z18: =+I18/365 -> 0.30671233 | AA18: =J18/$W$9 -> 0 | AB18: =K18/$W$9 -> 0 | AC18: =+L18/$W$9 -> 0 | AD18: =SUM(W18:AC18) -> 100.85959 | AE18: =(O18+P18)/160*1.25 -> 23.035027 | AF18: =(O18+P18)/160*1.5 -> 27.642032 | AG18: =(O18+P18)/160*1.55 -> 28.563433 | AM18: =+F18/100*11 -> 1514.2953
A19: 10 | B19: Jahre | E19: 2 | F19: 14167.282 | G19: 21615.48 | H19: 1320 | I19: =+I18+111.95 -> 223.9 | J19: =IF($J$12="NO-NEIN",-720,IF($J$12="B1 (ex C)",0,0)) -> 0 | K19: =IF($K$12="NO-NEIN",0,IF($K$12="SI-JA",$AN$13,0)) -> 0 | L19: =IF($L$12="NO-NEIN",0,IF($L$12="SI-JA",AM19,0)) -> 0 | M19: =+(F19+G19+I19+L19)/12 -> 3000.5551 | N19: =SUM(F19:M19) -> 40327.217 | O19: =F19/$O$9 -> 1180.6068 | P19: =G19/$O$9 -> 1801.29 | Q19: =H19/$O$9 -> 110 | R19: =+I19/12 -> 18.658333 | S19: =J19/$O$9 -> 0 | T19: =K19/$O$9 -> 0 | U19: =+L19/$O$9 -> 0 | V19: =SUM(O19:U19) -> 3110.5551 | W19: =F19/$W$9 -> 38.81447 | X19: =G19/$W$9 -> 59.220493 | Y19: =H19/$W$9 -> 3.6164384 | Z19: =+I19/365 -> 0.61342466 | AA19: =J19/$W$9 -> 0 | AB19: =K19/$W$9 -> 0 | AC19: =+L19/$W$9 -> 0 | AD19: =SUM(W19:AC19) -> 102.26483 | AE19: =(O19+P19)/160*1.25 -> 23.296069 | AF19: =(O19+P19)/160*1.5 -> 27.955283 | AG19: =(O19+P19)/160*1.55 -> 28.887125 | AM19: =+F19/100*11 -> 1558.401
A20: 12 | B20: Jahre | E20: 3 | F20: 14568.242 | G20: 21615.48 | H20: 1320 | I20: =+I19+111.95 -> 335.85 | J20: =IF($J$12="NO-NEIN",-720,IF($J$12="B1 (ex C)",0,0)) -> 0 | K20: =IF($K$12="NO-NEIN",0,IF($K$12="SI-JA",$AN$13,0)) -> 0 | L20: =IF($L$12="NO-NEIN",0,IF($L$12="SI-JA",AM20,0)) -> 0 | M20: =+(F20+G20+I20+L20)/12 -> 3043.2977 | N20: =SUM(F20:M20) -> 40882.87 | O20: =F20/$O$9 -> 1214.0202 | P20: =G20/$O$9 -> 1801.29 | Q20: =H20/$O$9 -> 110 | R20: =+I20/12 -> 27.9875 | S20: =J20/$O$9 -> 0 | T20: =K20/$O$9 -> 0 | U20: =+L20/$O$9 -> 0 | V20: =SUM(O20:U20) -> 3153.2977 | W20: =F20/$W$9 -> 39.912993 | X20: =G20/$W$9 -> 59.220493 | Y20: =H20/$W$9 -> 3.6164384 | Z20: =+I20/365 -> 0.92013699 | AA20: =J20/$W$9 -> 0 | AB20: =K20/$W$9 -> 0 | AC20: =+L20/$W$9 -> 0 | AD20: =SUM(W20:AC20) -> 103.67006 | AE20: =(O20+P20)/160*1.25 -> 23.557111 | AF20: =(O20+P20)/160*1.5 -> 28.268533 | AG20: =(O20+P20)/160*1.55 -> 29.210818 | AM20: =+F20/100*11 -> 1602.5067
A21: 14 | B21: Jahre | E21: 4 | F21: 14969.203 | G21: 21615.48 | H21: 1320 | I21: =+I20+111.95 -> 447.8 | J21: =IF($J$12="NO-NEIN",-720,IF($J$12="B1 (ex C)",0,0)) -> 0 | K21: =IF($K$12="NO-NEIN",0,IF($K$12="SI-JA",$AN$13,0)) -> 0 | L21: =IF($L$12="NO-NEIN",0,IF($L$12="SI-JA",AM21,0)) -> 0 | M21: =+(F21+G21+I21+L21)/12 -> 3086.0403 | N21: =SUM(F21:M21) -> 41438.523 | O21: =F21/$O$9 -> 1247.4336 | P21: =G21/$O$9 -> 1801.29 | Q21: =H21/$O$9 -> 110 | R21: =+I21/12 -> 37.316667 | S21: =J21/$O$9 -> 0 | T21: =K21/$O$9 -> 0 | U21: =+L21/$O$9 -> 0 | V21: =SUM(O21:U21) -> 3196.0403 | W21: =F21/$W$9 -> 41.011516 | X21: =G21/$W$9 -> 59.220493 | Y21: =H21/$W$9 -> 3.6164384 | Z21: =+I21/365 -> 1.2268493 | AA21: =J21/$W$9 -> 0 | AB21: =K21/$W$9 -> 0 | AC21: =+L21/$W$9 -> 0 | AD21: =SUM(W21:AC21) -> 105.0753 | AE21: =(O21+P21)/160*1.25 -> 23.818153 | AF21: =(O21+P21)/160*1.5 -> 28.581784 | AG21: =(O21+P21)/160*1.55 -> 29.53451 | AM21: =+F21/100*11 -> 1646.6124
A22: 16 | B22: Jahre | E22: 5 | F22: 15370.164 | G22: 21615.48 | H22: 1320 | I22: =+I21+111.95 -> 559.75 | J22: =IF($J$12="NO-NEIN",-720,IF($J$12="B1 (ex C)",0,0)) -> 0 | K22: =IF($K$12="NO-NEIN",0,IF($K$12="SI-JA",$AN$13,0)) -> 0 | L22: =IF($L$12="NO-NEIN",0,IF($L$12="SI-JA",AM22,0)) -> 0 | M22: =+(F22+G22+I22+L22)/12 -> 3128.7828 | N22: =SUM(F22:M22) -> 41994.177 | O22: =F22/$O$9 -> 1280.847 | P22: =G22/$O$9 -> 1801.29 | Q22: =H22/$O$9 -> 110 | R22: =+I22/12 -> 46.645833 | S22: =J22/$O$9 -> 0 | T22: =K22/$O$9 -> 0 | U22: =+L22/$O$9 -> 0 | V22: =SUM(O22:U22) -> 3238.7828 | W22: =F22/$W$9 -> 42.110038 | X22: =G22/$W$9 -> 59.220493 | Y22: =H22/$W$9 -> 3.6164384 | Z22: =+I22/365 -> 1.5335616 | AA22: =J22/$W$9 -> 0 | AB22: =K22/$W$9 -> 0 | AC22: =+L22/$W$9 -> 0 | AD22: =SUM(W22:AC22) -> 106.48053 | AE22: =(O22+P22)/160*1.25 -> 24.079195 | AF22: =(O22+P22)/160*1.5 -> 28.895034 | AG22: =(O22+P22)/160*1.55 -> 29.858202 | AM22: =+F22/100*11 -> 1690.718
A23: 18 | B23: Jahre | E23: 6 | F23: 15771.125 | G23: 21615.48 | H23: 1320 | I23: =+I22+111.95 -> 671.7 | J23: =IF($J$12="NO-NEIN",-720,IF($J$12="B1 (ex C)",0,0)) -> 0 | K23: =IF($K$12="NO-NEIN",0,IF($K$12="SI-JA",$AN$13,0)) -> 0 | L23: =IF($L$12="NO-NEIN",0,IF($L$12="SI-JA",AM23,0)) -> 0 | M23: =+(F23+G23+I23+L23)/12 -> 3171.5254 | N23: =SUM(F23:M23) -> 42549.83 | O23: =F23/$O$9 -> 1314.2604 | P23: =G23/$O$9 -> 1801.29 | Q23: =H23/$O$9 -> 110 | R23: =+I23/12 -> 55.975 | S23: =J23/$O$9 -> 0 | T23: =K23/$O$9 -> 0 | U23: =+L23/$O$9 -> 0 | V23: =SUM(O23:U23) -> 3281.5254 | W23: =F23/$W$9 -> 43.208561 | X23: =G23/$W$9 -> 59.220493 | Y23: =H23/$W$9 -> 3.6164384 | Z23: =+I23/365 -> 1.840274 | AA23: =J23/$W$9 -> 0 | AB23: =K23/$W$9 -> 0 | AC23: =+L23/$W$9 -> 0 | AD23: =SUM(W23:AC23) -> 107.88577 | AE23: =(O23+P23)/160*1.25 -> 24.340238 | AF23: =(O23+P23)/160*1.5 -> 29.208285 | AG23: =(O23+P23)/160*1.55 -> 30.181895 | AM23: =+F23/100*11 -> 1734.8237
A24: 20 | B24: Jahre | E24: 7 | F24: 16172.086 | G24: 21615.48 | H24: 1320 | I24: =+I23+111.95 -> 783.65 | J24: =IF($J$12="NO-NEIN",-720,IF($J$12="B1 (ex C)",0,0)) -> 0 | K24: =IF($K$12="NO-NEIN",0,IF($K$12="SI-JA",$AN$13,0)) -> 0 | L24: =IF($L$12="NO-NEIN",0,IF($L$12="SI-JA",AM24,0)) -> 0 | M24: =+(F24+G24+I24+L24)/12 -> 3214.268 | N24: =SUM(F24:M24) -> 43105.484 | O24: =F24/$O$9 -> 1347.6738 | P24: =G24/$O$9 -> 1801.29 | Q24: =H24/$O$9 -> 110 | R24: =+I24/12 -> 65.304167 | S24: =J24/$O$9 -> 0 | T24: =K24/$O$9 -> 0 | U24: =+L24/$O$9 -> 0 | V24: =SUM(O24:U24) -> 3324.268 | W24: =F24/$W$9 -> 44.307084 | X24: =G24/$W$9 -> 59.220493 | Y24: =H24/$W$9 -> 3.6164384 | Z24: =+I24/365 -> 2.1469863 | AA24: =J24/$W$9 -> 0 | AB24: =K24/$W$9 -> 0 | AC24: =+L24/$W$9 -> 0 | AD24: =SUM(W24:AC24) -> 109.291 | AE24: =(O24+P24)/160*1.25 -> 24.60128 | AF24: =(O24+P24)/160*1.5 -> 29.521536 | AG24: =(O24+P24)/160*1.55 -> 30.505587 | AM24: =+F24/100*11 -> 1778.9294
A25: 22 | B25: Jahre | E25: 8 | F25: 16573.046 | G25: 21615.48 | H25: 1320 | I25: =+I24+111.95 -> 895.6 | J25: =IF($J$12="NO-NEIN",-720,IF($J$12="B1 (ex C)",0,0)) -> 0 | K25: =IF($K$12="NO-NEIN",0,IF($K$12="SI-JA",$AN$13,0)) -> 0 | L25: =IF($L$12="NO-NEIN",0,IF($L$12="SI-JA",AM25,0)) -> 0 | M25: =+(F25+G25+I25+L25)/12 -> 3257.0105 | N25: =SUM(F25:M25) -> 43661.137 | O25: =F25/$O$9 -> 1381.0872 | P25: =G25/$O$9 -> 1801.29 | Q25: =H25/$O$9 -> 110 | R25: =+I25/12 -> 74.633333 | S25: =J25/$O$9 -> 0 | T25: =K25/$O$9 -> 0 | U25: =+L25/$O$9 -> 0 | V25: =SUM(O25:U25) -> 3367.0105 | W25: =F25/$W$9 -> 45.405607 | X25: =G25/$W$9 -> 59.220493 | Y25: =H25/$W$9 -> 3.6164384 | Z25: =+I25/365 -> 2.4536986 | AA25: =J25/$W$9 -> 0 | AB25: =K25/$W$9 -> 0 | AC25: =+L25/$W$9 -> 0 | AD25: =SUM(W25:AC25) -> 110.69624 | AE25: =(O25+P25)/160*1.25 -> 24.862322 | AF25: =(O25+P25)/160*1.5 -> 29.834786 | AG25: =(O25+P25)/160*1.55 -> 30.829279 | AM25: =+F25/100*11 -> 1823.0351
A26: 24 | B26: Jahre | E26: 9 | F26: 16974.007 | G26: 21615.48 | H26: 1320 | I26: =+I25+111.95 -> 1007.55 | J26: =IF($J$12="NO-NEIN",-720,IF($J$12="B1 (ex C)",0,0)) -> 0 | K26: =IF($K$12="NO-NEIN",0,IF($K$12="SI-JA",$AN$13,0)) -> 0 | L26: =IF($L$12="NO-NEIN",0,IF($L$12="SI-JA",AM26,0)) -> 0 | M26: =+(F26+G26+I26+L26)/12 -> 3299.7531 | N26: =SUM(F26:M26) -> 44216.79 | O26: =F26/$O$9 -> 1414.5006 | P26: =G26/$O$9 -> 1801.29 | Q26: =H26/$O$9 -> 110 | R26: =+I26/12 -> 83.9625 | S26: =J26/$O$9 -> 0 | T26: =K26/$O$9 -> 0 | U26: =+L26/$O$9 -> 0 | V26: =SUM(O26:U26) -> 3409.7531 | W26: =F26/$W$9 -> 46.504129 | X26: =G26/$W$9 -> 59.220493 | Y26: =H26/$W$9 -> 3.6164384 | Z26: =+I26/365 -> 2.760411 | AA26: =J26/$W$9 -> 0 | AB26: =K26/$W$9 -> 0 | AC26: =+L26/$W$9 -> 0 | AD26: =SUM(W26:AC26) -> 112.10147 | AE26: =(O26+P26)/160*1.25 -> 25.123364 | AF26: =(O26+P26)/160*1.5 -> 30.148037 | AG26: =(O26+P26)/160*1.55 -> 31.152971 | AM26: =+F26/100*11 -> 1867.1408
A27: 26 | B27: Jahre | E27: 10 | F27: 17374.968 | G27: 21615.48 | H27: 1320 | I27: =+I26+111.95 -> 1119.5 | J27: =IF($J$12="NO-NEIN",-720,IF($J$12="B1 (ex C)",0,0)) -> 0 | K27: =IF($K$12="NO-NEIN",0,IF($K$12="SI-JA",$AN$13,0)) -> 0 | L27: =IF($L$12="NO-NEIN",0,IF($L$12="SI-JA",AM27,0)) -> 0 | M27: =+(F27+G27+I27+L27)/12 -> 3342.4957 | N27: =SUM(F27:M27) -> 44772.444 | O27: =F27/$O$9 -> 1447.914 | P27: =G27/$O$9 -> 1801.29 | Q27: =H27/$O$9 -> 110 | R27: =+I27/12 -> 93.291667 | S27: =J27/$O$9 -> 0 | T27: =K27/$O$9 -> 0 | U27: =+L27/$O$9 -> 0 | V27: =SUM(O27:U27) -> 3452.4957 | W27: =F27/$W$9 -> 47.602652 | X27: =G27/$W$9 -> 59.220493 | Y27: =H27/$W$9 -> 3.6164384 | Z27: =+I27/365 -> 3.0671233 | AA27: =J27/$W$9 -> 0 | AB27: =K27/$W$9 -> 0 | AC27: =+L27/$W$9 -> 0 | AD27: =SUM(W27:AC27) -> 113.50671 | AE27: =(O27+P27)/160*1.25 -> 25.384406 | AF27: =(O27+P27)/160*1.5 -> 30.461287 | AG27: =(O27+P27)/160*1.55 -> 31.476664 | AM27: =+F27/100*11 -> 1911.2465
A28: 28 | B28: Jahre | E28: 11 | F28: 17775.929 | G28: 21615.48 | H28: 1320 | I28: =+I27+111.95 -> 1231.45 | J28: =IF($J$12="NO-NEIN",-720,IF($J$12="B1 (ex C)",0,0)) -> 0 | K28: =IF($K$12="NO-NEIN",0,IF($K$12="SI-JA",$AN$13,0)) -> 0 | L28: =IF($L$12="NO-NEIN",0,IF($L$12="SI-JA",AM28,0)) -> 0 | M28: =+(F28+G28+I28+L28)/12 -> 3385.2382 | N28: =SUM(F28:M28) -> 45328.097 | O28: =F28/$O$9 -> 1481.3274 | P28: =G28/$O$9 -> 1801.29 | Q28: =H28/$O$9 -> 110 | R28: =+I28/12 -> 102.62083 | S28: =J28/$O$9 -> 0 | T28: =K28/$O$9 -> 0 | U28: =+L28/$O$9 -> 0 | V28: =SUM(O28:U28) -> 3495.2382 | W28: =F28/$W$9 -> 48.701175 | X28: =G28/$W$9 -> 59.220493 | Y28: =H28/$W$9 -> 3.6164384 | Z28: =+I28/365 -> 3.3738356 | AA28: =J28/$W$9 -> 0 | AB28: =K28/$W$9 -> 0 | AC28: =+L28/$W$9 -> 0 | AD28: =SUM(W28:AC28) -> 114.91194 | AE28: =(O28+P28)/160*1.25 -> 25.645448 | AF28: =(O28+P28)/160*1.5 -> 30.774538 | AG28: =(O28+P28)/160*1.55 -> 31.800356 | AM28: =+F28/100*11 -> 1955.3522
A29: 30 | B29: Jahre | E29: 12 | F29: 18176.89 | G29: 21615.48 | H29: 1320 | I29: =+I28+111.95 -> 1343.4 | J29: =IF($J$12="NO-NEIN",-720,IF($J$12="B1 (ex C)",0,0)) -> 0 | K29: =IF($K$12="NO-NEIN",0,IF($K$12="SI-JA",$AN$13,0)) -> 0 | L29: =IF($L$12="NO-NEIN",0,IF($L$12="SI-JA",AM29,0)) -> 0 | M29: =+(F29+G29+I29+L29)/12 -> 3427.9808 | N29: =SUM(F29:M29) -> 45883.75 | O29: =F29/$O$9 -> 1514.7408 | P29: =G29/$O$9 -> 1801.29 | Q29: =H29/$O$9 -> 110 | R29: =+I29/12 -> 111.95 | S29: =J29/$O$9 -> 0 | T29: =K29/$O$9 -> 0 | U29: =+L29/$O$9 -> 0 | V29: =SUM(O29:U29) -> 3537.9808 | W29: =F29/$W$9 -> 49.799698 | X29: =G29/$W$9 -> 59.220493 | Y29: =H29/$W$9 -> 3.6164384 | Z29: =+I29/365 -> 3.6805479 | AA29: =J29/$W$9 -> 0 | AB29: =K29/$W$9 -> 0 | AC29: =+L29/$W$9 -> 0 | AD29: =SUM(W29:AC29) -> 116.31718 | AE29: =(O29+P29)/160*1.25 -> 25.906491 | AF29: =(O29+P29)/160*1.5 -> 31.087789 | AG29: =(O29+P29)/160*1.55 -> 32.124048 | AM29: =+F29/100*11 -> 1999.4579
A30: 32 | B30: Jahre | E30: 13 | F30: 18577.85 | G30: 21615.48 | H30: 1320 | I30: =+I29+111.95 -> 1455.35 | J30: =IF($J$12="NO-NEIN",-720,IF($J$12="B1 (ex C)",0,0)) -> 0 | K30: =IF($K$12="NO-NEIN",0,IF($K$12="SI-JA",$AN$13,0)) -> 0 | L30: =IF($L$12="NO-NEIN",0,IF($L$12="SI-JA",AM30,0)) -> 0 | M30: =+(F30+G30+I30+L30)/12 -> 3470.7234 | N30: =SUM(F30:M30) -> 46439.404 | O30: =F30/$O$9 -> 1548.1542 | P30: =G30/$O$9 -> 1801.29 | Q30: =H30/$O$9 -> 110 | R30: =+I30/12 -> 121.27917 | S30: =J30/$O$9 -> 0 | T30: =K30/$O$9 -> 0 | U30: =+L30/$O$9 -> 0 | V30: =SUM(O30:U30) -> 3580.7234 | W30: =F30/$W$9 -> 50.89822 | X30: =G30/$W$9 -> 59.220493 | Y30: =H30/$W$9 -> 3.6164384 | Z30: =+I30/365 -> 3.9872603 | AA30: =J30/$W$9 -> 0 | AB30: =K30/$W$9 -> 0 | AC30: =+L30/$W$9 -> 0 | AD30: =SUM(W30:AC30) -> 117.72241 | AE30: =(O30+P30)/160*1.25 -> 26.167533 | AF30: =(O30+P30)/160*1.5 -> 31.401039 | AG30: =(O30+P30)/160*1.55 -> 32.447741 | AM30: =+F30/100*11 -> 2043.5635
... A39: 50 | B39: Jahre | E39: 22 | F39: 22186.498 | G39: 21615.48 | H39: 1320 | I39: =+I38+111.95 -> 2462.9 | J39: =IF($J$12="NO-NEIN",-720,IF($J$12="B1 (ex C)",0,0)) -> 0 | K39: =IF($K$12="NO-NEIN",0,IF($K$12="SI-JA",$AN$13,0)) -> 0 | L39: =IF($L$12="NO-NEIN",0,IF($L$12="SI-JA",AM39,0)) -> 0 | M39: =+(F39+G39+I39+L39)/12 -> 3855.4065 | N39: =SUM(F39:M39) -> 51440.284 | O39: =F39/$O$9 -> 1848.8748 | P39: =G39/$O$9 -> 1801.29 | Q39: =H39/$O$9 -> 110 | R39: =+I39/12 -> 205.24167 | S39: =J39/$O$9 -> 0 | T39: =K39/$O$9 -> 0 | U39: =+L39/$O$9 -> 0 | V39: =SUM(O39:U39) -> 3965.4065 | W39: =F39/$W$9 -> 60.784925 | X39: =G39/$W$9 -> 59.220493 | Y39: =H39/$W$9 -> 3.6164384 | Z39: =+I39/365 -> 6.7476712 | AA39: =J39/$W$9 -> 0 | AB39: =K39/$W$9 -> 0 | AC39: =+L39/$W$9 -> 0 | AD39: =SUM(W39:AC39) -> 130.36953 | AE39: =(O39+P39)/160*1.25 -> 28.516913 | AF39: =(O39+P39)/160*1.5 -> 34.220295 | AG39: =(O39+P39)/160*1.55 -> 35.360972 | AM39: =+F39/100*11 -> 2440.5147

Sheet Liv.6 191
G2: TABELLE STIPENDI - GEHALTSAUFSTELLUNG
G3: dal/von | H3: 46023
S5: campi da modificare/Zu ändernde Felder
B7: Personale scuola dell'infanzia - Kindergartenpersonal | F7: COLLABORATORE PEDAGOGICO/COLLABORATRICE PEDAGOGICA | R7: CC del 06.08.2026 - personale del sistema dell'istruzione e della formazione
F8: PÄDAGOGISCHE MITARBEITERIN/MITARBEITER | R8: BKV vom 06.08.2026 - Personal des Bildungssystems | V8: =Data!H13 -> 42.35
M9: =12 -> 12 | T9: 365 | Z9: 365 | AA9: STRAORDINARI - ÜBERSTUNDEN dal/von 01.09.2026
A10: Avanzamento carriera ANNI - beruflicher Aufstieg JAHRE | B10: LIVELLO BESOLD. STUFE | C10: CLASSE KLASSE | D10: SCATTI VORR. | E10: ANNUO - JÄHRLICH | M10: MENSILE - MONATLICH | T10: =CONCATENATE("GIORNALIERO - TÄGLICH (",T9," giorni/Tage)") -> GIORNALIERO - TÄGLICH (365 giorni/Tage) | AA10: STRAORDINARI - ÜBERSTUNDEN ore amministrativi - Verwaltungsstunden
E11: STIPENDIO GEHALT | F11: I.I.S. S.E.Z. | G11: RETRIB. PROFESSIONALE - BERUFZULAGE | H11: BILINGUISMO - ZWEISPRACHIKEIT | I11: IND. GRAV. H - HANDICAP | J11: ID. LADINO - LADIENERZULAGE 11% | K11: 13. MA - 13. MONATSGEHALT | L11: TOTALE INSGESAMT | M11: STIPENDIO GEHALT | N11: I.I.S. S.E.Z. | O11: RETRIB. PROFESSIONALE - BERUFZULAGE | P11: BILINGUISMO - ZWEISPRACHIKEIT | Q11: IND. GRAV. H - HANDICAP | R11: ID. LADINO - LADIENERZULAGE 11% | S11: TOTALE INSGESAMT | T11: STIPENDIO GEHALT | U11: I.I.S. S.E.Z. | V11: RETRIB. PROFESSIONALE - BERUFZULAGE | W11: BILINGUISMO - ZWEISPRACHIKEIT | X11: IND. GRAV. H - HANDICAP | Y11: ID. LADINO - LADIENERZULAGE 11% | Z11: TOTALE INSGESAMT | AA11: FERIALE ARB. TAGE | AB11: NOTTURNO NACHT | AC11: FEST / NOTT. F.T / NACHT | AH11: ID. LADINO - LADIENERZULAGE | AI11: IND. GRAV. H - HANDICAP 4%
H12: B2 (ex B) | I12: NO-NEIN | J12: NO-NEIN | AH12: JA | AI12: JA
A13: 0 | B13: Inf./unt. | C13: 0 | D13: 0 | E13: 12936.13 | F13: 21615.48 | G13: 1320 | H13: =IF($H$12="NO-NEIN",-960,IF($H$12="B1 (ex C)",-360,IF($H$12=";B2 (ex B)",0,0))) -> 0 | I13: =IF($I$12="NO-NEIN",0,IF($I$12="SI-JA",$AI$13,0)) -> 0 | J13: =IF($J$12="NO-NEIN",0,IF($J$12="SI-JA",AH13,0)) -> 0 | K13: =+(E13+F13+J13)/12 -> 2879.3008 | L13: =SUM(E13:K13) -> 38750.911 | M13: =E13/$M$9 -> 1078.0108 | N13: =F13/$M$9 -> 1801.29 | O13: =G13/$M$9 -> 110 | P13: =H13/$M$9 -> 0 | Q13: =I13/$M$9 -> 0 | R13: =+J13/$M$9 -> 0 | S13: =SUM(M13:R13) -> 2989.3008 | T13: =E13/$T$9 -> 35.441452 | U13: =F13/$T$9 -> 59.220493 | V13: =G13/$T$9 -> 3.6164384 | W13: =H13/$T$9 -> 0 | X13: =I13/$T$9 -> 0 | Y13: =+J13/$T$9 -> 0 | Z13: =SUM(T13:Y13) -> 98.278384 | AA13: =(M13+N13)/160*1.25 -> 22.494538 | AB13: =(M13+N13)/160*1.5 -> 26.993445 | AC13: =(M13+N13)/160*1.55 -> 27.893227 | AH13: =+E13/100*11 -> 1422.9743 | AI13: =+E13/100*4 -> 517.4452
A14: 2 | B14: 0.06 | C14: 1 | D14: 0 | E14: 13712.3 | F14: 21615.48 | G14: 1320 | H14: =IF($H$12="NO-NEIN",-960,IF($H$12="B1 (ex C)",-360,IF($H$12=";B2 (ex B)",0,0))) -> 0 | I14: =IF($I$12="NO-NEIN",0,IF($I$12="SI-JA",$AI$13,0)) -> 0 | J14: =IF($J$12="NO-NEIN",0,IF($J$12="SI-JA",AH14,0)) -> 0 | K14: =+(E14+F14+J14)/12 -> 2943.9817 | L14: =SUM(E14:K14) -> 39591.762 | M14: =E14/$M$9 -> 1142.6917 | N14: =F14/$M$9 -> 1801.29 | O14: =G14/$M$9 -> 110 | P14: =H14/$M$9 -> 0 | Q14: =I14/$M$9 -> 0 | R14: =+J14/$M$9 -> 0 | S14: =SUM(M14:R14) -> 3053.9817 | T14: =E14/$T$9 -> 37.567945 | U14: =F14/$T$9 -> 59.220493 | V14: =G14/$T$9 -> 3.6164384 | W14: =H14/$T$9 -> 0 | X14: =I14/$T$9 -> 0 | Y14: =+J14/$T$9 -> 0 | Z14: =SUM(T14:Y14) -> 100.40488 | AA14: =(M14+N14)/160*1.25 -> 22.999857 | AB14: =(M14+N14)/160*1.5 -> 27.599828 | AC14: =(M14+N14)/160*1.55 -> 28.519822 | AH14: =+E14/100*11 -> 1508.353
A15: 4 | C15: 2 | D15: 0 | E15: 14488.47 | F15: 21615.48 | G15: 1320 | H15: =IF($H$12="NO-NEIN",-960,IF($H$12="B1 (ex C)",-360,IF($H$12=";B2 (ex B)",0,0))) -> 0 | I15: =IF($I$12="NO-NEIN",0,IF($I$12="SI-JA",$AI$13,0)) -> 0 | J15: =IF($J$12="NO-NEIN",0,IF($J$12="SI-JA",AH15,0)) -> 0 | K15: =+(E15+F15+J15)/12 -> 3008.6625 | L15: =SUM(E15:K15) -> 40432.612 | M15: =E15/$M$9 -> 1207.3725 | N15: =F15/$M$9 -> 1801.29 | O15: =G15/$M$9 -> 110 | P15: =H15/$M$9 -> 0 | Q15: =I15/$M$9 -> 0 | R15: =+J15/$M$9 -> 0 | S15: =SUM(M15:R15) -> 3118.6625 | T15: =E15/$T$9 -> 39.694438 | U15: =F15/$T$9 -> 59.220493 | V15: =G15/$T$9 -> 3.6164384 | W15: =H15/$T$9 -> 0 | X15: =I15/$T$9 -> 0 | Y15: =+J15/$T$9 -> 0 | Z15: =SUM(T15:Y15) -> 102.53137 | AA15: =(M15+N15)/160*1.25 -> 23.505176 | AB15: =(M15+N15)/160*1.5 -> 28.206211 | AC15: =(M15+N15)/160*1.55 -> 29.146418 | AH15: =+E15/100*11 -> 1593.7317
A16: 6 | C16: 3 | D16: 0 | E16: 15264.63 | F16: 21615.48 | G16: 1320 | H16: =IF($H$12="NO-NEIN",-960,IF($H$12="B1 (ex C)",-360,IF($H$12=";B2 (ex B)",0,0))) -> 0 | I16: =IF($I$12="NO-NEIN",0,IF($I$12="SI-JA",$AI$13,0)) -> 0 | J16: =IF($J$12="NO-NEIN",0,IF($J$12="SI-JA",AH16,0)) -> 0 | K16: =+(E16+F16+J16)/12 -> 3073.3425 | L16: =SUM(E16:K16) -> 41273.452 | M16: =E16/$M$9 -> 1272.0525 | N16: =F16/$M$9 -> 1801.29 | O16: =G16/$M$9 -> 110 | P16: =H16/$M$9 -> 0 | Q16: =I16/$M$9 -> 0 | R16: =+J16/$M$9 -> 0 | S16: =SUM(M16:R16) -> 3183.3425 | T16: =E16/$T$9 -> 41.820904 | U16: =F16/$T$9 -> 59.220493 | V16: =G16/$T$9 -> 3.6164384 | W16: =H16/$T$9 -> 0 | X16: =I16/$T$9 -> 0 | Y16: =+J16/$T$9 -> 0 | Z16: =SUM(T16:Y16) -> 104.65784 | AA16: =(M16+N16)/160*1.25 -> 24.010488 | AB16: =(M16+N16)/160*1.5 -> 28.812586 | AC16: =(M16+N16)/160*1.55 -> 29.773005 | AH16: =+E16/100*11 -> 1679.1093
A17: 8 | B17: sup./obere | C17: 0 | D17: 0 | E17: 17097.02 | F17: 21615.48 | G17: 1320 | H17: =IF($H$12="NO-NEIN",-960,IF($H$12="B1 (ex C)",-360,IF($H$12=";B2 (ex B)",0,0))) -> 0 | I17: =IF($I$12="NO-NEIN",0,IF($I$12="SI-JA",$AI$13,0)) -> 0 | J17: =IF($J$12="NO-NEIN",0,IF($J$12="SI-JA",AH17,0)) -> 0 | K17: =+(E17+F17+J17)/12 -> 3226.0417 | L17: =SUM(E17:K17) -> 43258.542 | M17: =E17/$M$9 -> 1424.7517 | N17: =F17/$M$9 -> 1801.29 | O17: =G17/$M$9 -> 110 | P17: =H17/$M$9 -> 0 | Q17: =I17/$M$9 -> 0 | R17: =+J17/$M$9 -> 0 | S17: =SUM(M17:R17) -> 3336.0417 | T17: =E17/$T$9 -> 46.841151 | U17: =F17/$T$9 -> 59.220493 | V17: =G17/$T$9 -> 3.6164384 | W17: =H17/$T$9 -> 0 | X17: =I17/$T$9 -> 0 | Y17: =+J17/$T$9 -> 0 | Z17: =SUM(T17:Y17) -> 109.67808 | AA17: =(M17+N17)/160*1.25 -> 25.203451 | AB17: =(M17+N17)/160*1.5 -> 30.244141 | AC17: =(M17+N17)/160*1.55 -> 31.252279 | AH17: =+E17/100*11 -> 1880.6722
A18: 10 | B18: 0.03 | D18: 1 | E18: 17609.93 | F18: 21615.48 | G18: 1320 | H18: =IF($H$12="NO-NEIN",-960,IF($H$12="B1 (ex C)",-360,IF($H$12=";B2 (ex B)",0,0))) -> 0 | I18: =IF($I$12="NO-NEIN",0,IF($I$12="SI-JA",$AI$13,0)) -> 0 | J18: =IF($J$12="NO-NEIN",0,IF($J$12="SI-JA",AH18,0)) -> 0 | K18: =+(E18+F18+J18)/12 -> 3268.7842 | L18: =SUM(E18:K18) -> 43814.194 | M18: =E18/$M$9 -> 1467.4942 | N18: =F18/$M$9 -> 1801.29 | O18: =G18/$M$9 -> 110 | P18: =H18/$M$9 -> 0 | Q18: =I18/$M$9 -> 0 | R18: =+J18/$M$9 -> 0 | S18: =SUM(M18:R18) -> 3378.7842 | T18: =E18/$T$9 -> 48.246384 | U18: =F18/$T$9 -> 59.220493 | V18: =G18/$T$9 -> 3.6164384 | W18: =H18/$T$9 -> 0 | X18: =I18/$T$9 -> 0 | Y18: =+J18/$T$9 -> 0 | Z18: =SUM(T18:Y18) -> 111.08332 | AA18: =(M18+N18)/160*1.25 -> 25.537376 | AB18: =(M18+N18)/160*1.5 -> 30.644852 | AC18: =(M18+N18)/160*1.55 -> 31.666347 | AH18: =+E18/100*11 -> 1937.0923
A19: 12 | D19: 2 | E19: 18122.84 | F19: 21615.48 | G19: 1320 | H19: =IF($H$12="NO-NEIN",-960,IF($H$12="B1 (ex C)",-360,IF($H$12=";B2 (ex B)",0,0))) -> 0 | I19: =IF($I$12="NO-NEIN",0,IF($I$12="SI-JA",$AI$13,0)) -> 0 | J19: =IF($J$12="NO-NEIN",0,IF($J$12="SI-JA",AH19,0)) -> 0 | K19: =+(E19+F19+J19)/12 -> 3311.5267 | L19: =SUM(E19:K19) -> 44369.847 | M19: =E19/$M$9 -> 1510.2367 | N19: =F19/$M$9 -> 1801.29 | O19: =G19/$M$9 -> 110 | P19: =H19/$M$9 -> 0 | Q19: =I19/$M$9 -> 0 | R19: =+J19/$M$9 -> 0 | S19: =SUM(M19:R19) -> 3421.5267 | T19: =E19/$T$9 -> 49.651616 | U19: =F19/$T$9 -> 59.220493 | V19: =G19/$T$9 -> 3.6164384 | W19: =H19/$T$9 -> 0 | X19: =I19/$T$9 -> 0 | Y19: =+J19/$T$9 -> 0 | Z19: =SUM(T19:Y19) -> 112.48855 | AA19: =(M19+N19)/160*1.25 -> 25.871302 | AB19: =(M19+N19)/160*1.5 -> 31.045563 | AC19: =(M19+N19)/160*1.55 -> 32.080415 | AH19: =+E19/100*11 -> 1993.5124
A20: 14 | D20: 3 | E20: 18635.75 | F20: 21615.48 | G20: 1320 | H20: =IF($H$12="NO-NEIN",-960,IF($H$12="B1 (ex C)",-360,IF($H$12=";B2 (ex B)",0,0))) -> 0 | I20: =IF($I$12="NO-NEIN",0,IF($I$12="SI-JA",$AI$13,0)) -> 0 | J20: =IF($J$12="NO-NEIN",0,IF($J$12="SI-JA",AH20,0)) -> 0 | K20: =+(E20+F20+J20)/12 -> 3354.2692 | L20: =SUM(E20:K20) -> 44925.499 | M20: =E20/$M$9 -> 1552.9792 | N20: =F20/$M$9 -> 1801.29 | O20: =G20/$M$9 -> 110 | P20: =H20/$M$9 -> 0 | Q20: =I20/$M$9 -> 0 | R20: =+J20/$M$9 -> 0 | S20: =SUM(M20:R20) -> 3464.2692 | T20: =E20/$T$9 -> 51.056849 | U20: =F20/$T$9 -> 59.220493 | V20: =G20/$T$9 -> 3.6164384 | W20: =H20/$T$9 -> 0 | X20: =I20/$T$9 -> 0 | Y20: =+J20/$T$9 -> 0 | Z20: =SUM(T20:Y20) -> 113.89378 | AA20: =(M20+N20)/160*1.25 -> 26.205228 | AB20: =(M20+N20)/160*1.5 -> 31.446273 | AC20: =(M20+N20)/160*1.55 -> 32.494483 | AH20: =+E20/100*11 -> 2049.9325
A21: 16 | D21: 4 | E21: 19148.66 | F21: 21615.48 | G21: 1320 | H21: =IF($H$12="NO-NEIN",-960,IF($H$12="B1 (ex C)",-360,IF($H$12=";B2 (ex B)",0,0))) -> 0 | I21: =IF($I$12="NO-NEIN",0,IF($I$12="SI-JA",$AI$13,0)) -> 0 | J21: =IF($J$12="NO-NEIN",0,IF($J$12="SI-JA",AH21,0)) -> 0 | K21: =+(E21+F21+J21)/12 -> 3397.0117 | L21: =SUM(E21:K21) -> 45481.152 | M21: =E21/$M$9 -> 1595.7217 | N21: =F21/$M$9 -> 1801.29 | O21: =G21/$M$9 -> 110 | P21: =H21/$M$9 -> 0 | Q21: =I21/$M$9 -> 0 | R21: =+J21/$M$9 -> 0 | S21: =SUM(M21:R21) -> 3507.0117 | T21: =E21/$T$9 -> 52.462082 | U21: =F21/$T$9 -> 59.220493 | V21: =G21/$T$9 -> 3.6164384 | W21: =H21/$T$9 -> 0 | X21: =I21/$T$9 -> 0 | Y21: =+J21/$T$9 -> 0 | Z21: =SUM(T21:Y21) -> 115.29901 | AA21: =(M21+N21)/160*1.25 -> 26.539154 | AB21: =(M21+N21)/160*1.5 -> 31.846984 | AC21: =(M21+N21)/160*1.55 -> 32.908551 | AH21: =+E21/100*11 -> 2106.3526
A22: 18 | D22: 5 | E22: 19661.57 | F22: 21615.48 | G22: 1320 | H22: =IF($H$12="NO-NEIN",-960,IF($H$12="B1 (ex C)",-360,IF($H$12=";B2 (ex B)",0,0))) -> 0 | I22: =IF($I$12="NO-NEIN",0,IF($I$12="SI-JA",$AI$13,0)) -> 0 | J22: =IF($J$12="NO-NEIN",0,IF($J$12="SI-JA",AH22,0)) -> 0 | K22: =+(E22+F22+J22)/12 -> 3439.7542 | L22: =SUM(E22:K22) -> 46036.804 | M22: =E22/$M$9 -> 1638.4642 | N22: =F22/$M$9 -> 1801.29 | O22: =G22/$M$9 -> 110 | P22: =H22/$M$9 -> 0 | Q22: =I22/$M$9 -> 0 | R22: =+J22/$M$9 -> 0 | S22: =SUM(M22:R22) -> 3549.7542 | T22: =E22/$T$9 -> 53.867315 | U22: =F22/$T$9 -> 59.220493 | V22: =G22/$T$9 -> 3.6164384 | W22: =H22/$T$9 -> 0 | X22: =I22/$T$9 -> 0 | Y22: =+J22/$T$9 -> 0 | Z22: =SUM(T22:Y22) -> 116.70425 | AA22: =(M22+N22)/160*1.25 -> 26.873079 | AB22: =(M22+N22)/160*1.5 -> 32.247695 | AC22: =(M22+N22)/160*1.55 -> 33.322618 | AH22: =+E22/100*11 -> 2162.7727
A23: 20 | D23: 6 | E23: 20174.48 | F23: 21615.48 | G23: 1320 | H23: =IF($H$12="NO-NEIN",-960,IF($H$12="B1 (ex C)",-360,IF($H$12=";B2 (ex B)",0,0))) -> 0 | I23: =IF($I$12="NO-NEIN",0,IF($I$12="SI-JA",$AI$13,0)) -> 0 | J23: =IF($J$12="NO-NEIN",0,IF($J$12="SI-JA",AH23,0)) -> 0 | K23: =+(E23+F23+J23)/12 -> 3482.4967 | L23: =SUM(E23:K23) -> 46592.457 | M23: =E23/$M$9 -> 1681.2067 | N23: =F23/$M$9 -> 1801.29 | O23: =G23/$M$9 -> 110 | P23: =H23/$M$9 -> 0 | Q23: =I23/$M$9 -> 0 | R23: =+J23/$M$9 -> 0 | S23: =SUM(M23:R23) -> 3592.4967 | T23: =E23/$T$9 -> 55.272548 | U23: =F23/$T$9 -> 59.220493 | V23: =G23/$T$9 -> 3.6164384 | W23: =H23/$T$9 -> 0 | X23: =I23/$T$9 -> 0 | Y23: =+J23/$T$9 -> 0 | Z23: =SUM(T23:Y23) -> 118.10948 | AA23: =(M23+N23)/160*1.25 -> 27.207005 | AB23: =(M23+N23)/160*1.5 -> 32.648406 | AC23: =(M23+N23)/160*1.55 -> 33.736686 | AH23: =+E23/100*11 -> 2219.1928
A24: 22 | D24: 7 | E24: 20687.39 | F24: 21615.48 | G24: 1320 | H24: =IF($H$12="NO-NEIN",-960,IF($H$12="B1 (ex C)",-360,IF($H$12=";B2 (ex B)",0,0))) -> 0 | I24: =IF($I$12="NO-NEIN",0,IF($I$12="SI-JA",$AI$13,0)) -> 0 | J24: =IF($J$12="NO-NEIN",0,IF($J$12="SI-JA",AH24,0)) -> 0 | K24: =+(E24+F24+J24)/12 -> 3525.2392 | L24: =SUM(E24:K24) -> 47148.109 | M24: =E24/$M$9 -> 1723.9492 | N24: =F24/$M$9 -> 1801.29 | O24: =G24/$M$9 -> 110 | P24: =H24/$M$9 -> 0 | Q24: =I24/$M$9 -> 0 | R24: =+J24/$M$9 -> 0 | S24: =SUM(M24:R24) -> 3635.2392 | T24: =E24/$T$9 -> 56.677781 | U24: =F24/$T$9 -> 59.220493 | V24: =G24/$T$9 -> 3.6164384 | W24: =H24/$T$9 -> 0 | X24: =I24/$T$9 -> 0 | Y24: =+J24/$T$9 -> 0 | Z24: =SUM(T24:Y24) -> 119.51471 | AA24: =(M24+N24)/160*1.25 -> 27.540931 | AB24: =(M24+N24)/160*1.5 -> 33.049117 | AC24: =(M24+N24)/160*1.55 -> 34.150754 | AH24: =+E24/100*11 -> 2275.6129
A25: 24 | D25: 8 | E25: 21200.3 | F25: 21615.48 | G25: 1320 | H25: =IF($H$12="NO-NEIN",-960,IF($H$12="B1 (ex C)",-360,IF($H$12=";B2 (ex B)",0,0))) -> 0 | I25: =IF($I$12="NO-NEIN",0,IF($I$12="SI-JA",$AI$13,0)) -> 0 | J25: =IF($J$12="NO-NEIN",0,IF($J$12="SI-JA",AH25,0)) -> 0 | K25: =+(E25+F25+J25)/12 -> 3567.9817 | L25: =SUM(E25:K25) -> 47703.762 | M25: =E25/$M$9 -> 1766.6917 | N25: =F25/$M$9 -> 1801.29 | O25: =G25/$M$9 -> 110 | P25: =H25/$M$9 -> 0 | Q25: =I25/$M$9 -> 0 | R25: =+J25/$M$9 -> 0 | S25: =SUM(M25:R25) -> 3677.9817 | T25: =E25/$T$9 -> 58.083014 | U25: =F25/$T$9 -> 59.220493 | V25: =G25/$T$9 -> 3.6164384 | W25: =H25/$T$9 -> 0 | X25: =I25/$T$9 -> 0 | Y25: =+J25/$T$9 -> 0 | Z25: =SUM(T25:Y25) -> 120.91995 | AA25: =(M25+N25)/160*1.25 -> 27.874857 | AB25: =(M25+N25)/160*1.5 -> 33.449828 | AC25: =(M25+N25)/160*1.55 -> 34.564822 | AH25: =+E25/100*11 -> 2332.033
A26: 26 | D26: 9 | E26: 21713.22 | F26: 21615.48 | G26: 1320 | H26: =IF($H$12="NO-NEIN",-960,IF($H$12="B1 (ex C)",-360,IF($H$12=";B2 (ex B)",0,0))) -> 0 | I26: =IF($I$12="NO-NEIN",0,IF($I$12="SI-JA",$AI$13,0)) -> 0 | J26: =IF($J$12="NO-NEIN",0,IF($J$12="SI-JA",AH26,0)) -> 0 | K26: =+(E26+F26+J26)/12 -> 3610.725 | L26: =SUM(E26:K26) -> 48259.425 | M26: =E26/$M$9 -> 1809.435 | N26: =F26/$M$9 -> 1801.29 | O26: =G26/$M$9 -> 110 | P26: =H26/$M$9 -> 0 | Q26: =I26/$M$9 -> 0 | R26: =+J26/$M$9 -> 0 | S26: =SUM(M26:R26) -> 3720.725 | T26: =E26/$T$9 -> 59.488274 | U26: =F26/$T$9 -> 59.220493 | V26: =G26/$T$9 -> 3.6164384 | W26: =H26/$T$9 -> 0 | X26: =I26/$T$9 -> 0 | Y26: =+J26/$T$9 -> 0 | Z26: =SUM(T26:Y26) -> 122.32521 | AA26: =(M26+N26)/160*1.25 -> 28.208789 | AB26: =(M26+N26)/160*1.5 -> 33.850547 | AC26: =(M26+N26)/160*1.55 -> 34.978898 | AH26: =+E26/100*11 -> 2388.4542
A27: 28 | D27: 10 | E27: 22226.13 | F27: 21615.48 | G27: 1320 | H27: =IF($H$12="NO-NEIN",-960,IF($H$12="B1 (ex C)",-360,IF($H$12=";B2 (ex B)",0,0))) -> 0 | I27: =IF($I$12="NO-NEIN",0,IF($I$12="SI-JA",$AI$13,0)) -> 0 | J27: =IF($J$12="NO-NEIN",0,IF($J$12="SI-JA",AH27,0)) -> 0 | K27: =+(E27+F27+J27)/12 -> 3653.4675 | L27: =SUM(E27:K27) -> 48815.077 | M27: =E27/$M$9 -> 1852.1775 | N27: =F27/$M$9 -> 1801.29 | O27: =G27/$M$9 -> 110 | P27: =H27/$M$9 -> 0 | Q27: =I27/$M$9 -> 0 | R27: =+J27/$M$9 -> 0 | S27: =SUM(M27:R27) -> 3763.4675 | T27: =E27/$T$9 -> 60.893507 | U27: =F27/$T$9 -> 59.220493 | V27: =G27/$T$9 -> 3.6164384 | W27: =H27/$T$9 -> 0 | X27: =I27/$T$9 -> 0 | Y27: =+J27/$T$9 -> 0 | Z27: =SUM(T27:Y27) -> 123.73044 | AA27: =(M27+N27)/160*1.25 -> 28.542715 | AB27: =(M27+N27)/160*1.5 -> 34.251258 | AC27: =(M27+N27)/160*1.55 -> 35.392966 | AH27: =+E27/100*11 -> 2444.8743
A28: 30 | D28: 11 | E28: 22739.04 | F28: 21615.48 | G28: 1320 | H28: =IF($H$12="NO-NEIN",-960,IF($H$12="B1 (ex C)",-360,IF($H$12=";B2 (ex B)",0,0))) -> 0 | I28: =IF($I$12="NO-NEIN",0,IF($I$12="SI-JA",$AI$13,0)) -> 0 | J28: =IF($J$12="NO-NEIN",0,IF($J$12="SI-JA",AH28,0)) -> 0 | K28: =+(E28+F28+J28)/12 -> 3696.21 | L28: =SUM(E28:K28) -> 49370.73 | M28: =E28/$M$9 -> 1894.92 | N28: =F28/$M$9 -> 1801.29 | O28: =G28/$M$9 -> 110 | P28: =H28/$M$9 -> 0 | Q28: =I28/$M$9 -> 0 | R28: =+J28/$M$9 -> 0 | S28: =SUM(M28:R28) -> 3806.21 | T28: =E28/$T$9 -> 62.29874 | U28: =F28/$T$9 -> 59.220493 | V28: =G28/$T$9 -> 3.6164384 | W28: =H28/$T$9 -> 0 | X28: =I28/$T$9 -> 0 | Y28: =+J28/$T$9 -> 0 | Z28: =SUM(T28:Y28) -> 125.13567 | AA28: =(M28+N28)/160*1.25 -> 28.876641 | AB28: =(M28+N28)/160*1.5 -> 34.651969 | AC28: =(M28+N28)/160*1.55 -> 35.807034 | AH28: =+E28/100*11 -> 2501.2944
A29: 32 | D29: 12 | E29: 23251.95 | F29: 21615.48 | G29: 1320 | H29: =IF($H$12="NO-NEIN",-960,IF($H$12="B1 (ex C)",-360,IF($H$12=";B2 (ex B)",0,0))) -> 0 | I29: =IF($I$12="NO-NEIN",0,IF($I$12="SI-JA",$AI$13,0)) -> 0 | J29: =IF($J$12="NO-NEIN",0,IF($J$12="SI-JA",AH29,0)) -> 0 | K29: =+(E29+F29+J29)/12 -> 3738.9525 | L29: =SUM(E29:K29) -> 49926.382 | M29: =E29/$M$9 -> 1937.6625 | N29: =F29/$M$9 -> 1801.29 | O29: =G29/$M$9 -> 110 | P29: =H29/$M$9 -> 0 | Q29: =I29/$M$9 -> 0 | R29: =+J29/$M$9 -> 0 | S29: =SUM(M29:R29) -> 3848.9525 | T29: =E29/$T$9 -> 63.703973 | U29: =F29/$T$9 -> 59.220493 | V29: =G29/$T$9 -> 3.6164384 | W29: =H29/$T$9 -> 0 | X29: =I29/$T$9 -> 0 | Y29: =+J29/$T$9 -> 0 | Z29: =SUM(T29:Y29) -> 126.5409 | AA29: =(M29+N29)/160*1.25 -> 29.210566 | AB29: =(M29+N29)/160*1.5 -> 35.05268 | AC29: =(M29+N29)/160*1.55 -> 36.221102 | AH29: =+E29/100*11 -> 2557.7145
A30: 34 | D30: 13 | E30: 23764.86 | F30: 21615.48 | G30: 1320 | H30: =IF($H$12="NO-NEIN",-960,IF($H$12="B1 (ex C)",-360,IF($H$12=";B2 (ex B)",0,0))) -> 0 | I30: =IF($I$12="NO-NEIN",0,IF($I$12="SI-JA",$AI$13,0)) -> 0 | J30: =IF($J$12="NO-NEIN",0,IF($J$12="SI-JA",AH30,0)) -> 0 | K30: =+(E30+F30+J30)/12 -> 3781.695 | L30: =SUM(E30:K30) -> 50482.035 | M30: =E30/$M$9 -> 1980.405 | N30: =F30/$M$9 -> 1801.29 | O30: =G30/$M$9 -> 110 | P30: =H30/$M$9 -> 0 | Q30: =I30/$M$9 -> 0 | R30: =+J30/$M$9 -> 0 | S30: =SUM(M30:R30) -> 3891.695 | T30: =E30/$T$9 -> 65.109205 | U30: =F30/$T$9 -> 59.220493 | V30: =G30/$T$9 -> 3.6164384 | W30: =H30/$T$9 -> 0 | X30: =I30/$T$9 -> 0 | Y30: =+J30/$T$9 -> 0 | Z30: =SUM(T30:Y30) -> 127.94614 | AA30: =(M30+N30)/160*1.25 -> 29.544492 | AB30: =(M30+N30)/160*1.5 -> 35.453391 | AC30: =(M30+N30)/160*1.55 -> 36.63517 | AH30: =+E30/100*11 -> 2614.1346
... A39: 52 | D39: 22 | E39: 28381.05 | F39: 21615.48 | G39: 1320 | H39: =IF($H$12="NO-NEIN",-960,IF($H$12="B1 (ex C)",-360,IF($H$12=";B2 (ex B)",0,0))) -> 0 | I39: =IF($I$12="NO-NEIN",0,IF($I$12="SI-JA",$AI$13,0)) -> 0 | J39: =IF($J$12="NO-NEIN",0,IF($J$12="SI-JA",AH39,0)) -> 0 | K39: =+(E39+F39+J39)/12 -> 4166.3775 | L39: =SUM(E39:K39) -> 55482.908 | M39: =E39/$M$9 -> 2365.0875 | N39: =F39/$M$9 -> 1801.29 | O39: =G39/$M$9 -> 110 | P39: =H39/$M$9 -> 0 | Q39: =I39/$M$9 -> 0 | R39: =+J39/$M$9 -> 0 | S39: =SUM(M39:R39) -> 4276.3775 | T39: =E39/$T$9 -> 77.756301 | U39: =F39/$T$9 -> 59.220493 | V39: =G39/$T$9 -> 3.6164384 | W39: =H39/$T$9 -> 0 | X39: =I39/$T$9 -> 0 | Y39: =+J39/$T$9 -> 0 | Z39: =SUM(T39:Y39) -> 140.59323 | AA39: =(M39+N39)/160*1.25 -> 32.549824 | AB39: =(M39+N39)/160*1.5 -> 39.059789 | AC39: =(M39+N39)/160*1.55 -> 40.361782 | AH39: =+E39/100*11 -> 3121.9155

Sheet Liv.6 46
H2: TABELLE STIPENDI - GEHALTSAUFSTELLUNG
H3: dal/von | I3: 46023
V5: campi da modificare/Zu ändernde Felder
C7: Personale scuola dell'infanzia - Kindergartenpersonal | G7: INSEGNANTE DI SCUOLA DELL'INFANZIA (M) | U7: CC del 06.08.2026 - personale del sistema dell'istruzione e della formazione
G8: KINDERGÄRTNER/KINDERGÄRTNERIN (M) | U8: BKV vom 06.08.2026 - Personal des Bildungssystems | Y8: =Data!H13 -> 42.35
O9: =12 -> 12 | W9: 365 | AD9: 365 | AE9: STRAORDINARI - ÜBERSTUNDEN dal/von 01.09.2026
A10: Avanzamento carriera - beruflicher Aufstieg | C10: LIVELLO BESOLD. STUFE | D10: CLASSE KLASSE | E10: SCATTI VORR. | F10: ANNUO - JÄHRLICH | O10: MENSILE - MONATLICH | W10: =CONCATENATE("GIORNALIERO - TÄGLICH (",W9," giorni/Tage)") -> GIORNALIERO - TÄGLICH (365 giorni/Tage) | AE10: STRAORDINARI - ÜBERSTUNDEN ore amministrativi - Verwaltungsstunden
F11: STIPENDIO GEHALT | G11: I.I.S. S.E.Z. | H11: RETRIB. PROFESSIONALE - BERUFZULAGE | I11: SCATTI BIENNALEI - VORRÜCKUNGEN KG | J11: BILINGUISMO - ZWEISPRACHIKEIT | K11: IND. GRAV. H - HANDICAP | L11: ID. LADINO - LADIENERZULAGE 11% | M11: 13. MA - 13. MONATSGEHALT | N11: TOTALE INSGESAMT | O11: STIPENDIO GEHALT | P11: I.I.S. S.E.Z. | Q11: RETRIB. PROFESSIONALE - BERUFZULAGE | R11: SCATTI BIENNALEI - VORRÜCKUNGEN KG | S11: BILINGUISMO - ZWEISPRACHIKEIT | T11: IND. GRAV. H - HANDICAP | U11: ID. LADINO - LADIENERZULAGE 11% | V11: TOTALE INSGESAMT | W11: STIPENDIO GEHALT | X11: I.I.S. S.E.Z. | Y11: RETRIB. PROFESSIONALE - BERUFZULAGE | Z11: SCATTI BIENNALEI - VORRÜCKUNGEN KG | AA11: BILINGUISMO - ZWEISPRACHIKEIT | AB11: IND. GRAV. H - HANDICAP | AC11: ID. LADINO - LADIENERZULAGE 11% | AD11: TOTALE INSGESAMT | AE11: FERIALE ARB. TAGE | AF11: NOTTURNO NACHT | AG11: FEST / NOTT. F.T / NACHT | AM11: ID. LADINO - LADIENERZULAGE | AP11: IND. GRAV. H - HANDICAP
J12: B2 (ex B) | K12: NO-NEIN | L12: SI-JA | AM12: JA | AP12: 4 -% | AQ12: 10-%
A13: 0 | B13: Monate | C13: Inf./unt. | D13: 0 | E13: 0 | F13: 12936.13 | G13: 22673.88 | H13: 1440 | I13: 0 | J13: =IF($J$12="NO-NEIN",-960,IF($J$12="B1 (ex C)",-360,IF($J$12=";B2 (ex B)",0,0))) -> 0 | K13: =IF($K$12="4-%",$AP$13,IF($K$12="10-%",$AQ$13,IF($K$12="NO-NEIN",0,0))) -> 0 | L13: =IF($L$12="NO-NEIN",0,IF($L$12="SI-JA",AM13,0)) -> 1422.9743 | M13: =+(F13+G13+L13)/12 -> 3086.082 | N13: =SUM(F13:M13) -> 41559.066 | O13: =F13/$O$9 -> 1078.0108 | P13: =G13/$O$9 -> 1889.49 | Q13: =H13/$O$9 -> 120 | R13: 0 | S13: =J13/$O$9 -> 0 | T13: =K13/$O$9 -> 0 | U13: =+L13/$O$9 -> 118.58119 | V13: =SUM(O13:U13) -> 3206.082 | W13: =F13/$W$9 -> 35.441452 | X13: =G13/$W$9 -> 62.120219 | Y13: =H13/$W$9 -> 3.9452055 | Z13: 0 | AA13: =J13/$W$9 -> 0 | AB13: =K13/$W$9 -> 0 | AC13: =+L13/$W$9 -> 3.8985597 | AD13: =SUM(W13:AC13) -> 105.40544 | AE13: =(O13+P13)/160*1.25 -> 23.1836 | AF13: =(O13+P13)/160*1.5 -> 27.82032 | AG13: =(O13+P13)/160*1.55 -> 28.747664 | AM13: =+F13/100*11 -> 1422.9743 | AP13: =+F13/100*4 -> 517.4452 | AQ13: =+F13/100*10 -> 1293.613
A14: 18 | B14: Monate | C14: 0.06 | D14: 1 | E14: 0 | F14: 13712.3 | G14: 22673.88 | H14: 1440 | I14: 0 | J14: =IF($J$12="NO-NEIN",-960,IF($J$12="B1 (ex C)",-360,IF($J$12=";B2 (ex B)",0,0))) -> 0 | K14: =IF($K$12="4-%",$AP$13,IF($K$12="10-%",$AQ$13,0)) -> 0 | L14: =IF($L$12="NO-NEIN",0,IF($L$12="SI-JA",AM14,0)) -> 1508.353 | M14: =+(F14+G14+L14)/12 -> 3157.8778 | N14: =SUM(F14:M14) -> 42492.411 | O14: =F14/$O$9 -> 1142.6917 | P14: =G14/$O$9 -> 1889.49 | Q14: =H14/$O$9 -> 120 | R14: 0 | S14: =J14/$O$9 -> 0 | T14: =K14/$O$9 -> 0 | U14: =+L14/$O$9 -> 125.69608 | V14: =SUM(O14:U14) -> 3277.8777 | W14: =F14/$W$9 -> 37.567945 | X14: =G14/$W$9 -> 62.120219 | Y14: =H14/$W$9 -> 3.9452055 | Z14: 0 | AA14: =J14/$W$9 -> 0 | AB14: =K14/$W$9 -> 0 | AC14: =+L14/$W$9 -> 4.132474 | AD14: =SUM(W14:AC14) -> 107.76584 | AE14: =(O14+P14)/160*1.25 -> 23.688919 | AF14: =(O14+P14)/160*1.5 -> 28.426703 | AG14: =(O14+P14)/160*1.55 -> 29.37426 | AM14: =+F14/100*11 -> 1508.353
A15: 66 | B15: Monate | D15: 2 | E15: 0 | F15: 14488.47 | G15: 22673.88 | H15: 1440 | I15: 0 | J15: =IF($J$12="NO-NEIN",-960,IF($J$12="B1 (ex C)",-360,IF($J$12=";B2 (ex B)",0,0))) -> 0 | K15: =IF($K$12="4-%",$AP$13,IF($K$12="10-%",$AQ$13,0)) -> 0 | L15: =IF($L$12="NO-NEIN",0,IF($L$12="SI-JA",AM15,0)) -> 1593.7317 | M15: =+(F15+G15+L15)/12 -> 3229.6735 | N15: =SUM(F15:M15) -> 43425.755 | O15: =F15/$O$9 -> 1207.3725 | P15: =G15/$O$9 -> 1889.49 | Q15: =H15/$O$9 -> 120 | R15: 0 | S15: =J15/$O$9 -> 0 | T15: =K15/$O$9 -> 0 | U15: =+L15/$O$9 -> 132.81097 | V15: =SUM(O15:U15) -> 3349.6735 | W15: =F15/$W$9 -> 39.694438 | X15: =G15/$W$9 -> 62.120219 | Y15: =H15/$W$9 -> 3.9452055 | Z15: 0 | AA15: =J15/$W$9 -> 0 | AB15: =K15/$W$9 -> 0 | AC15: =+L15/$W$9 -> 4.3663882 | AD15: =SUM(W15:AC15) -> 110.12625 | AE15: =(O15+P15)/160*1.25 -> 24.194238 | AF15: =(O15+P15)/160*1.5 -> 29.033086 | AG15: =(O15+P15)/160*1.55 -> 30.000855 | AM15: =+F15/100*11 -> 1593.7317
A16: 54 | B16: Monate | D16: 3 | E16: 0 | F16: 15264.63 | G16: 22673.88 | H16: 1440 | I16: 0 | J16: =IF($J$12="NO-NEIN",-960,IF($J$12="B1 (ex C)",-360,IF($J$12=";B2 (ex B)",0,0))) -> 0 | K16: =IF($K$12="4-%",$AP$13,IF($K$12="10-%",$AQ$13,0)) -> 0 | L16: =IF($L$12="NO-NEIN",0,IF($L$12="SI-JA",AM16,0)) -> 1679.1093 | M16: =+(F16+G16+L16)/12 -> 3301.4683 | N16: =SUM(F16:M16) -> 44359.088 | O16: =F16/$O$9 -> 1272.0525 | P16: =G16/$O$9 -> 1889.49 | Q16: =H16/$O$9 -> 120 | R16: 0 | S16: =J16/$O$9 -> 0 | T16: =K16/$O$9 -> 0 | U16: =+L16/$O$9 -> 139.92578 | V16: =SUM(O16:U16) -> 3421.4683 | W16: =F16/$W$9 -> 41.820904 | X16: =G16/$W$9 -> 62.120219 | Y16: =H16/$W$9 -> 3.9452055 | Z16: 0 | AA16: =J16/$W$9 -> 0 | AB16: =K16/$W$9 -> 0 | AC16: =+L16/$W$9 -> 4.6002995 | AD16: =SUM(W16:AC16) -> 112.48663 | AE16: =(O16+P16)/160*1.25 -> 24.699551 | AF16: =(O16+P16)/160*1.5 -> 29.639461 | AG16: =(O16+P16)/160*1.55 -> 30.627443 | AM16: =+F16/100*11 -> 1679.1093
A17: 72 | B17: Monate | C17: sup./obere | D17: 0 | E17: 0 | F17: 17097.02 | G17: 22673.88 | H17: 1440 | I17: 0 | J17: =IF($J$12="NO-NEIN",-960,IF($J$12="B1 (ex C)",-360,IF($J$12=";B2 (ex B)",0,0))) -> 0 | K17: =IF($K$12="4-%",$AP$13,IF($K$12="10-%",$AQ$13,0)) -> 0 | L17: =IF($L$12="NO-NEIN",0,IF($L$12="SI-JA",AM17,0)) -> 1880.6722 | M17: =+(F17+G17+L17)/12 -> 3470.9644 | N17: =SUM(F17:M17) -> 46562.537 | O17: =F17/$O$9 -> 1424.7517 | P17: =G17/$O$9 -> 1889.49 | Q17: =H17/$O$9 -> 120 | R17: 0 | S17: =J17/$O$9 -> 0 | T17: =K17/$O$9 -> 0 | U17: =+L17/$O$9 -> 156.72268 | V17: =SUM(O17:U17) -> 3590.9644 | W17: =F17/$W$9 -> 46.841151 | X17: =G17/$W$9 -> 62.120219 | Y17: =H17/$W$9 -> 3.9452055 | Z17: 0 | AA17: =J17/$W$9 -> 0 | AB17: =K17/$W$9 -> 0 | AC17: =+L17/$W$9 -> 5.1525266 | AD17: =SUM(W17:AC17) -> 118.0591 | AE17: =(O17+P17)/160*1.25 -> 25.892513 | AF17: =(O17+P17)/160*1.5 -> 31.071016 | AG17: =(O17+P17)/160*1.55 -> 32.106716 | AM17: =+F17/100*11 -> 1880.6722
A18: 8 | B18: Jahre | C18: 0.03 | E18: 1 | F18: 17609.93 | G18: 22673.88 | H18: 1440 | I18: 216.73 | J18: =IF($J$12="NO-NEIN",-960,IF($J$12="B1 (ex C)",-360,IF($J$12=";B2 (ex B)",0,0))) -> 0 | K18: =IF($K$12="4-%",$AP$13,IF($K$12="10-%",$AQ$13,0)) -> 0 | L18: =IF($L$12="NO-NEIN",0,IF($L$12="SI-JA",AM18,0)) -> 1937.0923 | M18: =+(F18+G18+L18)/12 -> 3518.4085 | N18: =SUM(F18:M18) -> 47396.041 | O18: =F18/$O$9 -> 1467.4942 | P18: =G18/$O$9 -> 1889.49 | Q18: =H18/$O$9 -> 120 | R18: =I18/$O$9 -> 18.060833 | S18: =J18/$O$9 -> 0 | T18: =K18/$O$9 -> 0 | U18: =+L18/$O$9 -> 161.42436 | V18: =SUM(O18:U18) -> 3656.4694 | W18: =F18/$W$9 -> 48.246384 | X18: =G18/$W$9 -> 62.120219 | Y18: =H18/$W$9 -> 3.9452055 | Z18: =I18/$W$9 -> 0.59378082 | AA18: =J18/$W$9 -> 0 | AB18: =K18/$W$9 -> 0 | AC18: =+L18/$W$9 -> 5.3071022 | AD18: =SUM(W18:AC18) -> 120.21269 | AE18: =(O18+P18)/160*1.25 -> 26.226439 | AF18: =(O18+P18)/160*1.5 -> 31.471727 | AG18: =(O18+P18)/160*1.55 -> 32.520784 | AM18: =+F18/100*11 -> 1937.0923
A19: 10 | B19: Jahre | E19: 2 | F19: 18122.84 | G19: 22673.88 | H19: 1440 | I19: =+I18+111.95 -> 328.68 | J19: =IF($J$12="NO-NEIN",-960,IF($J$12="B1 (ex C)",-360,IF($J$12=";B2 (ex B)",0,0))) -> 0 | K19: =IF($K$12="4-%",$AP$13,IF($K$12="10-%",$AQ$13,0)) -> 0 | L19: =IF($L$12="NO-NEIN",0,IF($L$12="SI-JA",AM19,0)) -> 1993.5124 | M19: =+(F19+G19+L19)/12 -> 3565.8527 | N19: =SUM(F19:M19) -> 48124.765 | O19: =F19/$O$9 -> 1510.2367 | P19: =G19/$O$9 -> 1889.49 | Q19: =H19/$O$9 -> 120 | R19: =I19/$O$9 -> 27.39 | S19: =J19/$O$9 -> 0 | T19: =K19/$O$9 -> 0 | U19: =+L19/$O$9 -> 166.12603 | V19: =SUM(O19:U19) -> 3713.2427 | W19: =F19/$W$9 -> 49.651616 | X19: =G19/$W$9 -> 62.120219 | Y19: =H19/$W$9 -> 3.9452055 | Z19: =I19/$W$9 -> 0.90049315 | AA19: =J19/$W$9 -> 0 | AB19: =K19/$W$9 -> 0 | AC19: =+L19/$W$9 -> 5.4616778 | AD19: =SUM(W19:AC19) -> 122.07921 | AE19: =(O19+P19)/160*1.25 -> 26.560365 | AF19: =(O19+P19)/160*1.5 -> 31.872438 | AG19: =(O19+P19)/160*1.55 -> 32.934852 | AM19: =+F19/100*11 -> 1993.5124
A20: 12 | B20: Jahre | E20: 3 | F20: 18635.75 | G20: 22673.88 | H20: 1440 | I20: =+I19+111.95 -> 440.63 | J20: =IF($J$12="NO-NEIN",-960,IF($J$12="B1 (ex C)",-360,IF($J$12=";B2 (ex B)",0,0))) -> 0 | K20: =IF($K$12="4-%",$AP$13,IF($K$12="10-%",$AQ$13,0)) -> 0 | L20: =IF($L$12="NO-NEIN",0,IF($L$12="SI-JA",AM20,0)) -> 2049.9325 | M20: =+(F20+G20+L20)/12 -> 3613.2969 | N20: =SUM(F20:M20) -> 48853.489 | O20: =F20/$O$9 -> 1552.9792 | P20: =G20/$O$9 -> 1889.49 | Q20: =H20/$O$9 -> 120 | R20: =I20/$O$9 -> 36.719167 | S20: =J20/$O$9 -> 0 | T20: =K20/$O$9 -> 0 | U20: =+L20/$O$9 -> 170.82771 | V20: =SUM(O20:U20) -> 3770.016 | W20: =F20/$W$9 -> 51.056849 | X20: =G20/$W$9 -> 62.120219 | Y20: =H20/$W$9 -> 3.9452055 | Z20: =I20/$W$9 -> 1.2072055 | AA20: =J20/$W$9 -> 0 | AB20: =K20/$W$9 -> 0 | AC20: =+L20/$W$9 -> 5.6162534 | AD20: =SUM(W20:AC20) -> 123.94573 | AE20: =(O20+P20)/160*1.25 -> 26.89429 | AF20: =(O20+P20)/160*1.5 -> 32.273148 | AG20: =(O20+P20)/160*1.55 -> 33.34892 | AM20: =+F20/100*11 -> 2049.9325
A21: 14 | B21: Jahre | E21: 4 | F21: 19148.66 | G21: 22673.88 | H21: 1440 | I21: =+I20+111.95 -> 552.58 | J21: =IF($J$12="NO-NEIN",-960,IF($J$12="B1 (ex C)",-360,IF($J$12=";B2 (ex B)",0,0))) -> 0 | K21: =IF($K$12="4-%",$AP$13,IF($K$12="10-%",$AQ$13,0)) -> 0 | L21: =IF($L$12="NO-NEIN",0,IF($L$12="SI-JA",AM21,0)) -> 2106.3526 | M21: =+(F21+G21+L21)/12 -> 3660.7411 | N21: =SUM(F21:M21) -> 49582.214 | O21: =F21/$O$9 -> 1595.7217 | P21: =G21/$O$9 -> 1889.49 | Q21: =H21/$O$9 -> 120 | R21: =I21/$O$9 -> 46.048333 | S21: =J21/$O$9 -> 0 | T21: =K21/$O$9 -> 0 | U21: =+L21/$O$9 -> 175.52938 | V21: =SUM(O21:U21) -> 3826.7894 | W21: =F21/$W$9 -> 52.462082 | X21: =G21/$W$9 -> 62.120219 | Y21: =H21/$W$9 -> 3.9452055 | Z21: =I21/$W$9 -> 1.5139178 | AA21: =J21/$W$9 -> 0 | AB21: =K21/$W$9 -> 0 | AC21: =+L21/$W$9 -> 5.770829 | AD21: =SUM(W21:AC21) -> 125.81225 | AE21: =(O21+P21)/160*1.25 -> 27.228216 | AF21: =(O21+P21)/160*1.5 -> 32.673859 | AG21: =(O21+P21)/160*1.55 -> 33.762988 | AM21: =+F21/100*11 -> 2106.3526
A22: 16 | B22: Jahre | E22: 5 | F22: 19661.57 | G22: 22673.88 | H22: 1440 | I22: =+I21+111.95 -> 664.53 | J22: =IF($J$12="NO-NEIN",-960,IF($J$12="B1 (ex C)",-360,IF($J$12=";B2 (ex B)",0,0))) -> 0 | K22: =IF($K$12="4-%",$AP$13,IF($K$12="10-%",$AQ$13,0)) -> 0 | L22: =IF($L$12="NO-NEIN",0,IF($L$12="SI-JA",AM22,0)) -> 2162.7727 | M22: =+(F22+G22+L22)/12 -> 3708.1852 | N22: =SUM(F22:M22) -> 50310.938 | O22: =F22/$O$9 -> 1638.4642 | P22: =G22/$O$9 -> 1889.49 | Q22: =H22/$O$9 -> 120 | R22: =I22/$O$9 -> 55.3775 | S22: =J22/$O$9 -> 0 | T22: =K22/$O$9 -> 0 | U22: =+L22/$O$9 -> 180.23106 | V22: =SUM(O22:U22) -> 3883.5627 | W22: =F22/$W$9 -> 53.867315 | X22: =G22/$W$9 -> 62.120219 | Y22: =H22/$W$9 -> 3.9452055 | Z22: =I22/$W$9 -> 1.8206301 | AA22: =J22/$W$9 -> 0 | AB22: =K22/$W$9 -> 0 | AC22: =+L22/$W$9 -> 5.9254047 | AD22: =SUM(W22:AC22) -> 127.67877 | AE22: =(O22+P22)/160*1.25 -> 27.562142 | AF22: =(O22+P22)/160*1.5 -> 33.07457 | AG22: =(O22+P22)/160*1.55 -> 34.177056 | AM22: =+F22/100*11 -> 2162.7727
A23: 18 | B23: Jahre | E23: 6 | F23: 20174.48 | G23: 22673.88 | H23: 1440 | I23: =+I22+111.95 -> 776.48 | J23: =IF($J$12="NO-NEIN",-960,IF($J$12="B1 (ex C)",-360,IF($J$12=";B2 (ex B)",0,0))) -> 0 | K23: =IF($K$12="4-%",$AP$13,IF($K$12="10-%",$AQ$13,0)) -> 0 | L23: =IF($L$12="NO-NEIN",0,IF($L$12="SI-JA",AM23,0)) -> 2219.1928 | M23: =+(F23+G23+L23)/12 -> 3755.6294 | N23: =SUM(F23:M23) -> 51039.662 | O23: =F23/$O$9 -> 1681.2067 | P23: =G23/$O$9 -> 1889.49 | Q23: =H23/$O$9 -> 120 | R23: =I23/$O$9 -> 64.706667 | S23: =J23/$O$9 -> 0 | T23: =K23/$O$9 -> 0 | U23: =+L23/$O$9 -> 184.93273 | V23: =SUM(O23:U23) -> 3940.3361 | W23: =F23/$W$9 -> 55.272548 | X23: =G23/$W$9 -> 62.120219 | Y23: =H23/$W$9 -> 3.9452055 | Z23: =I23/$W$9 -> 2.1273425 | AA23: =J23/$W$9 -> 0 | AB23: =K23/$W$9 -> 0 | AC23: =+L23/$W$9 -> 6.0799803 | AD23: =SUM(W23:AC23) -> 129.5453 | AE23: =(O23+P23)/160*1.25 -> 27.896068 | AF23: =(O23+P23)/160*1.5 -> 33.475281 | AG23: =(O23+P23)/160*1.55 -> 34.591124 | AM23: =+F23/100*11 -> 2219.1928
A24: 20 | B24: Jahre | E24: 7 | F24: 20687.39 | G24: 22673.88 | H24: 1440 | I24: =+I23+111.95 -> 888.43 | J24: =IF($J$12="NO-NEIN",-960,IF($J$12="B1 (ex C)",-360,IF($J$12=";B2 (ex B)",0,0))) -> 0 | K24: =IF($K$12="4-%",$AP$13,IF($K$12="10-%",$AQ$13,0)) -> 0 | L24: =IF($L$12="NO-NEIN",0,IF($L$12="SI-JA",AM24,0)) -> 2275.6129 | M24: =+(F24+G24+L24)/12 -> 3803.0736 | N24: =SUM(F24:M24) -> 51768.386 | O24: =F24/$O$9 -> 1723.9492 | P24: =G24/$O$9 -> 1889.49 | Q24: =H24/$O$9 -> 120 | R24: =I24/$O$9 -> 74.035833 | S24: =J24/$O$9 -> 0 | T24: =K24/$O$9 -> 0 | U24: =+L24/$O$9 -> 189.63441 | V24: =SUM(O24:U24) -> 3997.1094 | W24: =F24/$W$9 -> 56.677781 | X24: =G24/$W$9 -> 62.120219 | Y24: =H24/$W$9 -> 3.9452055 | Z24: =I24/$W$9 -> 2.4340548 | AA24: =J24/$W$9 -> 0 | AB24: =K24/$W$9 -> 0 | AC24: =+L24/$W$9 -> 6.2345559 | AD24: =SUM(W24:AC24) -> 131.41182 | AE24: =(O24+P24)/160*1.25 -> 28.229993 | AF24: =(O24+P24)/160*1.5 -> 33.875992 | AG24: =(O24+P24)/160*1.55 -> 35.005192 | AM24: =+F24/100*11 -> 2275.6129
A25: 22 | B25: Jahre | E25: 8 | F25: 21200.3 | G25: 22673.88 | H25: 1440 | I25: =+I24+111.95 -> 1000.38 | J25: =IF($J$12="NO-NEIN",-960,IF($J$12="B1 (ex C)",-360,IF($J$12=";B2 (ex B)",0,0))) -> 0 | K25: =IF($K$12="4-%",$AP$13,IF($K$12="10-%",$AQ$13,0)) -> 0 | L25: =IF($L$12="NO-NEIN",0,IF($L$12="SI-JA",AM25,0)) -> 2332.033 | M25: =+(F25+G25+L25)/12 -> 3850.5178 | N25: =SUM(F25:M25) -> 52497.111 | O25: =F25/$O$9 -> 1766.6917 | P25: =G25/$O$9 -> 1889.49 | Q25: =H25/$O$9 -> 120 | R25: =I25/$O$9 -> 83.365 | S25: =J25/$O$9 -> 0 | T25: =K25/$O$9 -> 0 | U25: =+L25/$O$9 -> 194.33608 | V25: =SUM(O25:U25) -> 4053.8827 | W25: =F25/$W$9 -> 58.083014 | X25: =G25/$W$9 -> 62.120219 | Y25: =H25/$W$9 -> 3.9452055 | Z25: =I25/$W$9 -> 2.7407671 | AA25: =J25/$W$9 -> 0 | AB25: =K25/$W$9 -> 0 | AC25: =+L25/$W$9 -> 6.3891315 | AD25: =SUM(W25:AC25) -> 133.27834 | AE25: =(O25+P25)/160*1.25 -> 28.563919 | AF25: =(O25+P25)/160*1.5 -> 34.276703 | AG25: =(O25+P25)/160*1.55 -> 35.41926 | AM25: =+F25/100*11 -> 2332.033
A26: 24 | B26: Jahre | E26: 9 | F26: 21713.22 | G26: 22673.88 | H26: 1440 | I26: =+I25+111.95 -> 1112.33 | J26: =IF($J$12="NO-NEIN",-960,IF($J$12="B1 (ex C)",-360,IF($J$12=";B2 (ex B)",0,0))) -> 0 | K26: =IF($K$12="4-%",$AP$13,IF($K$12="10-%",$AQ$13,0)) -> 0 | L26: =IF($L$12="NO-NEIN",0,IF($L$12="SI-JA",AM26,0)) -> 2388.4542 | M26: =+(F26+G26+L26)/12 -> 3897.9629 | N26: =SUM(F26:M26) -> 53225.847 | O26: =F26/$O$9 -> 1809.435 | P26: =G26/$O$9 -> 1889.49 | Q26: =H26/$O$9 -> 120 | R26: =I26/$O$9 -> 92.694167 | S26: =J26/$O$9 -> 0 | T26: =K26/$O$9 -> 0 | U26: =+L26/$O$9 -> 199.03785 | V26: =SUM(O26:U26) -> 4110.657 | W26: =F26/$W$9 -> 59.488274 | X26: =G26/$W$9 -> 62.120219 | Y26: =H26/$W$9 -> 3.9452055 | Z26: =I26/$W$9 -> 3.0474795 | AA26: =J26/$W$9 -> 0 | AB26: =K26/$W$9 -> 0 | AC26: =+L26/$W$9 -> 6.5437101 | AD26: =SUM(W26:AC26) -> 135.14489 | AE26: =(O26+P26)/160*1.25 -> 28.897852 | AF26: =(O26+P26)/160*1.5 -> 34.677422 | AG26: =(O26+P26)/160*1.55 -> 35.833336 | AM26: =+F26/100*11 -> 2388.4542
A27: 26 | B27: Jahre | E27: 10 | F27: 22226.13 | G27: 22673.88 | H27: 1440 | I27: =+I26+111.95 -> 1224.28 | J27: =IF($J$12="NO-NEIN",-960,IF($J$12="B1 (ex C)",-360,IF($J$12=";B2 (ex B)",0,0))) -> 0 | K27: =IF($K$12="4-%",$AP$13,IF($K$12="10-%",$AQ$13,0)) -> 0 | L27: =IF($L$12="NO-NEIN",0,IF($L$12="SI-JA",AM27,0)) -> 2444.8743 | M27: =+(F27+G27+L27)/12 -> 3945.407 | N27: =SUM(F27:M27) -> 53954.571 | O27: =F27/$O$9 -> 1852.1775 | P27: =G27/$O$9 -> 1889.49 | Q27: =H27/$O$9 -> 120 | R27: =I27/$O$9 -> 102.02333 | S27: =J27/$O$9 -> 0 | T27: =K27/$O$9 -> 0 | U27: =+L27/$O$9 -> 203.73952 | V27: =SUM(O27:U27) -> 4167.4304 | W27: =F27/$W$9 -> 60.893507 | X27: =G27/$W$9 -> 62.120219 | Y27: =H27/$W$9 -> 3.9452055 | Z27: =I27/$W$9 -> 3.3541918 | AA27: =J27/$W$9 -> 0 | AB27: =K27/$W$9 -> 0 | AC27: =+L27/$W$9 -> 6.6982858 | AD27: =SUM(W27:AC27) -> 137.01141 | AE27: =(O27+P27)/160*1.25 -> 29.231777 | AF27: =(O27+P27)/160*1.5 -> 35.078133 | AG27: =(O27+P27)/160*1.55 -> 36.247404 | AM27: =+F27/100*11 -> 2444.8743
A28: 28 | B28: Jahre | E28: 11 | F28: 22739.04 | G28: 22673.88 | H28: 1440 | I28: =+I27+111.95 -> 1336.23 | J28: =IF($J$12="NO-NEIN",-960,IF($J$12="B1 (ex C)",-360,IF($J$12=";B2 (ex B)",0,0))) -> 0 | K28: =IF($K$12="4-%",$AP$13,IF($K$12="10-%",$AQ$13,0)) -> 0 | L28: =IF($L$12="NO-NEIN",0,IF($L$12="SI-JA",AM28,0)) -> 2501.2944 | M28: =+(F28+G28+L28)/12 -> 3992.8512 | N28: =SUM(F28:M28) -> 54683.296 | O28: =F28/$O$9 -> 1894.92 | P28: =G28/$O$9 -> 1889.49 | Q28: =H28/$O$9 -> 120 | R28: =I28/$O$9 -> 111.3525 | S28: =J28/$O$9 -> 0 | T28: =K28/$O$9 -> 0 | U28: =+L28/$O$9 -> 208.4412 | V28: =SUM(O28:U28) -> 4224.2037 | W28: =F28/$W$9 -> 62.29874 | X28: =G28/$W$9 -> 62.120219 | Y28: =H28/$W$9 -> 3.9452055 | Z28: =I28/$W$9 -> 3.6609041 | AA28: =J28/$W$9 -> 0 | AB28: =K28/$W$9 -> 0 | AC28: =+L28/$W$9 -> 6.8528614 | AD28: =SUM(W28:AC28) -> 138.87793 | AE28: =(O28+P28)/160*1.25 -> 29.565703 | AF28: =(O28+P28)/160*1.5 -> 35.478844 | AG28: =(O28+P28)/160*1.55 -> 36.661472 | AM28: =+F28/100*11 -> 2501.2944
A29: 30 | B29: Jahre | E29: 12 | F29: 23251.95 | G29: 22673.88 | H29: 1440 | I29: =+I28+111.95 -> 1448.18 | J29: =IF($J$12="NO-NEIN",-960,IF($J$12="B1 (ex C)",-360,IF($J$12=";B2 (ex B)",0,0))) -> 0 | K29: =IF($K$12="4-%",$AP$13,IF($K$12="10-%",$AQ$13,0)) -> 0 | L29: =IF($L$12="NO-NEIN",0,IF($L$12="SI-JA",AM29,0)) -> 2557.7145 | M29: =+(F29+G29+L29)/12 -> 4040.2954 | N29: =SUM(F29:M29) -> 55412.02 | O29: =F29/$O$9 -> 1937.6625 | P29: =G29/$O$9 -> 1889.49 | Q29: =H29/$O$9 -> 120 | R29: =I29/$O$9 -> 120.68167 | S29: =J29/$O$9 -> 0 | T29: =K29/$O$9 -> 0 | U29: =+L29/$O$9 -> 213.14288 | V29: =SUM(O29:U29) -> 4280.977 | W29: =F29/$W$9 -> 63.703973 | X29: =G29/$W$9 -> 62.120219 | Y29: =H29/$W$9 -> 3.9452055 | Z29: =I29/$W$9 -> 3.9676164 | AA29: =J29/$W$9 -> 0 | AB29: =K29/$W$9 -> 0 | AC29: =+L29/$W$9 -> 7.007437 | AD29: =SUM(W29:AC29) -> 140.74445 | AE29: =(O29+P29)/160*1.25 -> 29.899629 | AF29: =(O29+P29)/160*1.5 -> 35.879555 | AG29: =(O29+P29)/160*1.55 -> 37.07554 | AM29: =+F29/100*11 -> 2557.7145
A30: 32 | B30: Jahre | E30: 13 | F30: 23764.86 | G30: 22673.88 | H30: 1440 | I30: =+I29+111.95 -> 1560.13 | J30: =IF($J$12="NO-NEIN",-960,IF($J$12="B1 (ex C)",-360,IF($J$12=";B2 (ex B)",0,0))) -> 0 | K30: =IF($K$12="4-%",$AP$13,IF($K$12="10-%",$AQ$13,0)) -> 0 | L30: =IF($L$12="NO-NEIN",0,IF($L$12="SI-JA",AM30,0)) -> 2614.1346 | M30: =+(F30+G30+L30)/12 -> 4087.7396 | N30: =SUM(F30:M30) -> 56140.744 | O30: =F30/$O$9 -> 1980.405 | P30: =G30/$O$9 -> 1889.49 | Q30: =H30/$O$9 -> 120 | R30: =I30/$O$9 -> 130.01083 | S30: =J30/$O$9 -> 0 | T30: =K30/$O$9 -> 0 | U30: =+L30/$O$9 -> 217.84455 | V30: =SUM(O30:U30) -> 4337.7504 | W30: =F30/$W$9 -> 65.109205 | X30: =G30/$W$9 -> 62.120219 | Y30: =H30/$W$9 -> 3.9452055 | Z30: =I30/$W$9 -> 4.2743288 | AA30: =J30/$W$9 -> 0 | AB30: =K30/$W$9 -> 0 | AC30: =+L30/$W$9 -> 7.1620126 | AD30: =SUM(W30:AC30) -> 142.61097 | AE30: =(O30+P30)/160*1.25 -> 30.233555 | AF30: =(O30+P30)/160*1.5 -> 36.280266 | AG30: =(O30+P30)/160*1.55 -> 37.489608 | AM30: =+F30/100*11 -> 2614.1346
... A39: 50 | B39: Jahre | E39: 22 | F39: 28381.05 | G39: 22673.88 | H39: 1440 | I39: =+I38+111.95 -> 2567.68 | J39: =IF($J$12="NO-NEIN",-960,IF($J$12="B1 (ex C)",-360,IF($J$12=";B2 (ex B)",0,0))) -> 0 | K39: =IF($K$12="4-%",$AP$13,IF($K$12="10-%",$AQ$13,0)) -> 0 | L39: =IF($L$12="NO-NEIN",0,IF($L$12="SI-JA",AM39,0)) -> 3121.9155 | M39: =+(F39+G39+L39)/12 -> 4514.7371 | N39: =SUM(F39:M39) -> 62699.263 | O39: =F39/$O$9 -> 2365.0875 | P39: =G39/$O$9 -> 1889.49 | Q39: =H39/$O$9 -> 120 | R39: =I39/$O$9 -> 213.97333 | S39: =J39/$O$9 -> 0 | T39: =K39/$O$9 -> 0 | U39: =+L39/$O$9 -> 260.15963 | V39: =SUM(O39:U39) -> 4848.7105 | W39: =F39/$W$9 -> 77.756301 | X39: =G39/$W$9 -> 62.120219 | Y39: =H39/$W$9 -> 3.9452055 | Z39: =I39/$W$9 -> 7.0347397 | AA39: =J39/$W$9 -> 0 | AB39: =K39/$W$9 -> 0 | AC39: =+L39/$W$9 -> 8.5531932 | AD39: =SUM(W39:AC39) -> 159.40966 | AE39: =(O39+P39)/160*1.25 -> 33.238887 | AF39: =(O39+P39)/160*1.5 -> 39.886664 | AG39: =(O39+P39)/160*1.55 -> 41.21622 | AM39: =+F39/100*11 -> 3121.9155

Sheet Liv.8 189
G2: TABELLE STIPENDI - GEHALTSAUFSTELLUNG
G3: dal/von | H3: 46023
S5: campi da modificare/Zu ändernde Felder
B7: Personale scuola dell'infanzia - Kindergartenpersonal | F7: INSEGNANTE DI SCUOLA DELL'INFANZIA (L) | R7: CC del 06.08.2026 - personale del sistema dell'istruzione e della formazione
F8: KINDERGÄRTNER/KINDERGÄRTNERIN (L) | R8: BKV vom 06.08.2026 - Personal des Bildungssystems | V8: =Data!H13 -> 42.35
